FILENAME: O4710807.SWS.1116417.tif
QUADRANGLE_NAME: VESETH RESERVOIR
QUADRANT: SW
WEST_LONGITUDE: -108 15 0.00000
EAST_LONGITUDE: -108 11 15.00000
NORTH_LATITUDE: 47 56 15.00000
SOUTH_LATITUDE: 47 52 30.00000
PRODUCTION_DATE: 2000 11 10
RASTER_ORDER: LEFT_RIGHT/TOP_BOTTOM
BAND_ORGANIZATION: SINGLE FILE
BAND_CONTENT: BLACK&WHITE
BAND_CONTENT: UNDEFINED
BAND_CONTENT: UNDEFINED
BITS_PER_PIXEL: 8
SAMPLES_AND_LINES: 5574 7719
HORIZONTAL_DATUM: NAD83
HORIZONTAL_COORDINATE_SYSTEM: UTM
COORDINATE_ZONE: 12
HORIZONTAL_UNITS: METERS
HORIZONTAL_RESOLUTION: 1.00000
SECONDARY_HORIZONTAL_DATUM: NAD27
XY_ORIGIN: 705025.00000 5313483.00000
SECONDARY_XY_ORIGIN: 705082.64200 5313266.33200
NATION: US
NATION: "SCIENCE
STATE: MT
NW_QUAD_CORNER_XY: 705377.29200 5313014.12600
NE_QUAD_CORNER_XY: 710044.58100 5313182.46000
SE_QUAD_CORNERY_XY: 710297.78300 5306236.80000
SW_QUAD_CORNER_XY: 705624.86000 5306068.42900
SECONDARY_NW_QUAD_XY: 705383.74800 5312795.37600
SECONDARY_NE_QUAD_XY: 710051.18300 5312963.71500
SECONDARY_SE_QUAD_XY: 710304.38400 5306018.07100
SECONDARY_SW_QUAD_XY: 705631.31500 5305849.69500
RMSE_XY: 1.00000
IMAGE_SOURCE: BLACK AND WHITE FILM
SOURCE_IMAGE_ID: NAPP 9143 172
SOURCE_IMAGE_DATE: 1996 08 24
SOURCE_DEM_DATE: 1965 00 00
AGENCY: WESTERN MAPPING CENTER (WMC)
PRODUCER: UNDEFINED
PRODUCTION_SYSTEM: GIS/MAGIC
COMPRESSION: UNDEFINED
STANDARD_VERSION: 1996 12
METADATA_DATE: 2000 11 14
DATA_FILE_SIZE: 43031280
BYTE_COUNT: 5574
