FILENAME: O4710806.NES.1114586.tif
QUADRANGLE_NAME: COBURN BUTTE
QUADRANT: NE
WEST_LONGITUDE: -108 18 45.00000
EAST_LONGITUDE: -108 15 0.00000
NORTH_LATITUDE: 48 0 0.00000
SOUTH_LATITUDE: 47 56 15.00000
PRODUCTION_DATE: 2000 11 10
RASTER_ORDER: LEFT_RIGHT/TOP_BOTTOM
BAND_ORGANIZATION: SINGLE FILE
BAND_CONTENT: BLACK&WHITE
BAND_CONTENT: UNDEFINED
BAND_CONTENT: UNDEFINED
BITS_PER_PIXEL: 8
SAMPLES_AND_LINES: 5564 7715
HORIZONTAL_DATUM: NAD83
HORIZONTAL_COORDINATE_SYSTEM: UTM
COORDINATE_ZONE: 12
HORIZONTAL_UNITS: METERS
HORIZONTAL_RESOLUTION: 1.00000
SECONDARY_HORIZONTAL_DATUM: NAD27
XY_ORIGIN: 700115.00000 5320260.00000
SECONDARY_XY_ORIGIN: 700172.84600 5320043.34500
NATION: US
NATION: "SCIENCE
STATE: MT
NW_QUAD_CORNER_XY: 700467.80500 5319795.37300
NE_QUAD_CORNER_XY: 705129.47900 5319959.88200
SE_QUAD_CORNERY_XY: 705377.29200 5313014.12600
SW_QUAD_CORNER_XY: 700709.97900 5312849.58000
SECONDARY_NW_QUAD_XY: 700474.11400 5319576.60200
SECONDARY_NE_QUAD_XY: 705135.93500 5319741.11600
SECONDARY_SE_QUAD_XY: 705383.74800 5312795.37600
SECONDARY_SW_QUAD_XY: 700716.28800 5312630.82400
RMSE_XY: 1.40000
IMAGE_SOURCE: BLACK AND WHITE FILM
SOURCE_IMAGE_ID: NAPP 9143 221
SOURCE_IMAGE_DATE: 1996 08 24
SOURCE_DEM_DATE: 1970 00 00
AGENCY: WESTERN MAPPING CENTER (WMC)
PRODUCER: UNDEFINED
PRODUCTION_SYSTEM: GIS/MAGIC
COMPRESSION: UNDEFINED
STANDARD_VERSION: 1996 12
METADATA_DATE: 2000 11 14
DATA_FILE_SIZE: 42931824
BYTE_COUNT: 5564
