FILENAME: O4710806.NWS.1114587.tif
QUADRANGLE_NAME: COBURN BUTTE
QUADRANT: NW
WEST_LONGITUDE: -108 22 30.00000
EAST_LONGITUDE: -108 18 45.00000
NORTH_LATITUDE: 48 0 0.00000
SOUTH_LATITUDE: 47 56 15.00000
PRODUCTION_DATE: 2000 11 9
RASTER_ORDER: LEFT_RIGHT/TOP_BOTTOM
BAND_ORGANIZATION: SINGLE FILE
BAND_CONTENT: BLACK&WHITE
BAND_CONTENT: UNDEFINED
BAND_CONTENT: UNDEFINED
BITS_PER_PIXEL: 8
SAMPLES_AND_LINES: 5558 7712
HORIZONTAL_DATUM: NAD83
HORIZONTAL_COORDINATE_SYSTEM: UTM
COORDINATE_ZONE: 12
HORIZONTAL_UNITS: METERS
HORIZONTAL_RESOLUTION: 1.00000
SECONDARY_HORIZONTAL_DATUM: NAD27
XY_ORIGIN: 695453.00000 5320096.00000
SECONDARY_XY_ORIGIN: 695510.97900 5319879.34300
NATION: US
NATION: "SCIENCE
STATE: MT
NW_QUAD_CORNER_XY: 695806.10600 5319634.65000
NE_QUAD_CORNER_XY: 700467.80500 5319795.37300
SE_QUAD_CORNERY_XY: 700709.97900 5312849.58000
SW_QUAD_CORNER_XY: 696042.64100 5312688.82100
SECONDARY_NW_QUAD_XY: 695812.26900 5319415.87500
SECONDARY_NE_QUAD_XY: 700474.11400 5319576.60200
SECONDARY_SE_QUAD_XY: 700716.28800 5312630.82400
SECONDARY_SW_QUAD_XY: 696048.80300 5312470.06100
RMSE_XY: 1.60000
IMAGE_SOURCE: BLACK AND WHITE FILM
SOURCE_IMAGE_ID: NAPP 9143 256
SOURCE_IMAGE_DATE: 1996 08 24
SOURCE_DEM_DATE: 1970 00 00
AGENCY: WESTERN MAPPING CENTER (WMC)
PRODUCER: UNDEFINED
PRODUCTION_SYSTEM: GIS/MAGIC
COMPRESSION: UNDEFINED
STANDARD_VERSION: 1996 12
METADATA_DATE: 2000 11 14
DATA_FILE_SIZE: 42868854
BYTE_COUNT: 5558
