FILENAME: O4710804.NES.1112806.tif
QUADRANGLE_NAME: ZORTMAN
QUADRANT: NE
WEST_LONGITUDE: -108 33 45.00000
EAST_LONGITUDE: -108 30 0.00000
NORTH_LATITUDE: 48 0 0.00000
SOUTH_LATITUDE: 47 56 15.00000
PRODUCTION_DATE: 2000 11 9
RASTER_ORDER: LEFT_RIGHT/TOP_BOTTOM
BAND_ORGANIZATION: SINGLE FILE
BAND_CONTENT: BLACK&WHITE
BAND_CONTENT: UNDEFINED
BAND_CONTENT: UNDEFINED
BITS_PER_PIXEL: 8
SAMPLES_AND_LINES: 5542 7700
HORIZONTAL_DATUM: NAD83
HORIZONTAL_COORDINATE_SYSTEM: UTM
COORDINATE_ZONE: 12
HORIZONTAL_UNITS: METERS
HORIZONTAL_RESOLUTION: 1.00000
SECONDARY_HORIZONTAL_DATUM: NAD27
XY_ORIGIN: 681467.00000 5319625.00000
SECONDARY_XY_ORIGIN: 681525.33100 5319408.42600
NATION: US
NATION: "SCIENCE
STATE: MT
NW_QUAD_CORNER_XY: 681820.86500 5319175.19800
NE_QUAD_CORNER_XY: 686482.63500 5319324.56300
SE_QUAD_CORNERY_XY: 686707.89400 5312378.66400
SW_QUAD_CORNER_XY: 682040.48700 5312229.26600
SECONDARY_NW_QUAD_XY: 681826.58700 5318956.40800
SECONDARY_NE_QUAD_XY: 686488.50400 5319105.77800
SECONDARY_SE_QUAD_XY: 686713.76300 5312159.89400
SECONDARY_SW_QUAD_XY: 682046.20900 5312010.49100
RMSE_XY: 1.40000
IMAGE_SOURCE: BLACK AND WHITE FILM
SOURCE_IMAGE_ID: NAPP 9144 138
SOURCE_IMAGE_DATE: 1996 08 25
SOURCE_IMAGE_ID: NAPP 9138 171
SOURCE_IMAGE_DATE: 1996 08 23
SOURCE_IMAGE_ID: NAPP 9138 169
SOURCE_IMAGE_DATE: 1996 08 23
SOURCE_IMAGE_ID: NAPP 9138 100
SOURCE_IMAGE_DATE: 1996 08 23
SOURCE_IMAGE_ID: NAPP 9138 102
SOURCE_IMAGE_DATE: 1996 08 23
SOURCE_DEM_DATE: 1970 00 00
AGENCY: WESTERN MAPPING CENTER (WMC)
PRODUCER: UNDEFINED
PRODUCTION_SYSTEM: GIS/MAGIC
COMPRESSION: UNDEFINED
STANDARD_VERSION: 1996 12
METADATA_DATE: 2000 11 13
DATA_FILE_SIZE: 42678942
BYTE_COUNT: 5542
