FILENAME: O4710804.NWS.1112807.tif
QUADRANGLE_NAME: ZORTMAN
QUADRANT: NW
WEST_LONGITUDE: -108 37 30.00000
EAST_LONGITUDE: -108 33 45.00000
NORTH_LATITUDE: 48 0 0.00000
SOUTH_LATITUDE: 47 56 15.00000
PRODUCTION_DATE: 2000 11 9
RASTER_ORDER: LEFT_RIGHT/TOP_BOTTOM
BAND_ORGANIZATION: SINGLE FILE
BAND_CONTENT: BLACK&WHITE
BAND_CONTENT: UNDEFINED
BAND_CONTENT: UNDEFINED
BITS_PER_PIXEL: 8
SAMPLES_AND_LINES: 5537 7697
HORIZONTAL_DATUM: NAD83
HORIZONTAL_COORDINATE_SYSTEM: UTM
COORDINATE_ZONE: 12
HORIZONTAL_UNITS: METERS
HORIZONTAL_RESOLUTION: 1.00000
SECONDARY_HORIZONTAL_DATUM: NAD27
XY_ORIGIN: 676805.00000 5319476.00000
SECONDARY_XY_ORIGIN: 676863.42500 5319259.50400
NATION: US
NATION: "SCIENCE
STATE: MT
NW_QUAD_CORNER_XY: 677159.07200 5319029.61900
NE_QUAD_CORNER_XY: 681820.86500 5319175.19800
SE_QUAD_CORNERY_XY: 682040.48700 5312229.26600
SW_QUAD_CORNER_XY: 677373.05700 5312083.65300
SECONDARY_NW_QUAD_XY: 677164.64800 5318810.82400
SECONDARY_NE_QUAD_XY: 681826.58700 5318956.40800
SECONDARY_SE_QUAD_XY: 682046.20900 5312010.49100
SECONDARY_SW_QUAD_XY: 677378.63200 5311864.87400
RMSE_XY: 2.30000
IMAGE_SOURCE: BLACK AND WHITE FILM
SOURCE_IMAGE_ID: NAPP 9138 170
SOURCE_IMAGE_DATE: 1996 08 23
SOURCE_IMAGE_ID: NAPP 9138 171
SOURCE_IMAGE_DATE: 1996 08 23
SOURCE_IMAGE_ID: NAPP 9138 169
SOURCE_IMAGE_DATE: 1996 08 23
SOURCE_DEM_DATE: 1970 00 00
AGENCY: WESTERN MAPPING CENTER (WMC)
PRODUCER: UNDEFINED
PRODUCTION_SYSTEM: GIS/MAGIC
COMPRESSION: UNDEFINED
STANDARD_VERSION: 1996 12
METADATA_DATE: 2000 11 13
DATA_FILE_SIZE: 42623826
BYTE_COUNT: 5537
