FILENAME: O4710802.NWS.1080688.tif
QUADRANGLE_NAME: CRAZYMAN COULEE
QUADRANT: NW
WEST_LONGITUDE: -108 52 30.00000
EAST_LONGITUDE: -108 48 45.00000
NORTH_LATITUDE: 48 0 0.00000
SOUTH_LATITUDE: 47 56 15.00000
PRODUCTION_DATE: 2000 5 31
RASTER_ORDER: LEFT_RIGHT/TOP_BOTTOM
BAND_ORGANIZATION: SINGLE FILE
BAND_CONTENT: BLACK&WHITE
BAND_CONTENT: UNDEFINED
BAND_CONTENT: UNDEFINED
BITS_PER_PIXEL: 8
SAMPLES_AND_LINES: 5515 7682
HORIZONTAL_DATUM: NAD83
HORIZONTAL_COORDINATE_SYSTEM: UTM
COORDINATE_ZONE: 12
HORIZONTAL_UNITS: METERS
HORIZONTAL_RESOLUTION: 1.00000
SECONDARY_HORIZONTAL_DATUM: NAD27
XY_ORIGIN: 658157.00000 5318916.00000
SECONDARY_XY_ORIGIN: 658215.63900 5318699.79200
NATION: US
NATION: "SCIENCE
STATE: MT
NW_QUAD_CORNER_XY: 658511.68700 5318485.14600
NE_QUAD_CORNER_XY: 663173.56400 5318615.58800
SE_QUAD_CORNERY_XY: 663370.64100 5311669.52900
SW_QUAD_CORNER_XY: 658703.12900 5311539.05800
SECONDARY_NW_QUAD_XY: 658516.67600 5318266.33400
SECONDARY_NE_QUAD_XY: 663178.70000 5318396.78000
SECONDARY_SE_QUAD_XY: 663375.77600 5311450.73600
SECONDARY_SW_QUAD_XY: 658708.11700 5311320.26100
RMSE_XY: 0.80000
IMAGE_SOURCE: BLACK AND WHITE FILM
SOURCE_IMAGE_ID: NAPP 9157 076
SOURCE_IMAGE_DATE: 1997 09 05
SOURCE_IMAGE_ID: NAPP 9157 075
SOURCE_IMAGE_DATE: 1997 09 05
SOURCE_DEM_DATE: 1970 00 00
AGENCY: WESTERN MAPPING CENTER (WMC)
PRODUCER: UNDEFINED
PRODUCTION_SYSTEM: GIS/MAGIC
COMPRESSION: UNDEFINED
STANDARD_VERSION: 1996 12
METADATA_DATE: 2000 06 14
DATA_FILE_SIZE: 42371745
BYTE_COUNT: 5515
