FILENAME: O4710801.NWS.1080675.tif
QUADRANGLE_NAME: JOHN COULEE
QUADRANT: NW
WEST_LONGITUDE: -109 0 0.00000
EAST_LONGITUDE: -108 56 15.00000
NORTH_LATITUDE: 48 0 0.00000
SOUTH_LATITUDE: 47 56 15.00000
PRODUCTION_DATE: 2000 5 31
RASTER_ORDER: LEFT_RIGHT/TOP_BOTTOM
BAND_ORGANIZATION: SINGLE FILE
BAND_CONTENT: BLACK&WHITE
BAND_CONTENT: UNDEFINED
BAND_CONTENT: UNDEFINED
BITS_PER_PIXEL: 8
SAMPLES_AND_LINES: 5505 7675
HORIZONTAL_DATUM: NAD83
HORIZONTAL_COORDINATE_SYSTEM: UTM
COORDINATE_ZONE: 12
HORIZONTAL_UNITS: METERS
HORIZONTAL_RESOLUTION: 1.00000
SECONDARY_HORIZONTAL_DATUM: NAD27
XY_ORIGIN: 648832.00000 5318659.00000
SECONDARY_XY_ORIGIN: 648890.67500 5318442.92800
NATION: US
NATION: "SCIENCE
STATE: MT
NW_QUAD_CORNER_XY: 649187.87500 5318235.61300
NE_QUAD_CORNER_XY: 653849.79100 5318358.48800
SE_QUAD_CORNERY_XY: 654035.59800 5311412.37100
SW_QUAD_CORNER_XY: 649368.04700 5311289.46900
SECONDARY_NW_QUAD_XY: 649192.57000 5318016.79400
SECONDARY_NE_QUAD_XY: 653854.63300 5318139.67200
SECONDARY_SE_QUAD_XY: 654040.43900 5311193.57100
SECONDARY_SW_QUAD_XY: 649372.74200 5311070.66500
RMSE_XY: 1.90000
IMAGE_SOURCE: BLACK AND WHITE FILM
SOURCE_IMAGE_ID: NAPP 9147 199
SOURCE_IMAGE_DATE: 1996 08 24
SOURCE_IMAGE_ID: NAPP 9157 245
SOURCE_IMAGE_DATE: 1997 09 05
SOURCE_IMAGE_ID: NAPP 9157 244
SOURCE_IMAGE_DATE: 1997 09 05
SOURCE_IMAGE_ID: NAPP 9157 243
SOURCE_IMAGE_DATE: 1997 09 05
SOURCE_IMAGE_ID: NAPP 9147 201
SOURCE_IMAGE_DATE: 1996 08 24
SOURCE_DEM_DATE: 1970 00 00
AGENCY: WESTERN MAPPING CENTER (WMC)
PRODUCER: UNDEFINED
PRODUCTION_SYSTEM: GIS/MAGIC
COMPRESSION: UNDEFINED
STANDARD_VERSION: 1996 12
METADATA_DATE: 2000 06 14
DATA_FILE_SIZE: 42256380
BYTE_COUNT: 5505
