FILENAME: O4710801.SES.1080676.tif
QUADRANGLE_NAME: JOHN COULEE
QUADRANT: SE
WEST_LONGITUDE: -108 56 15.00000
EAST_LONGITUDE: -108 52 30.00000
NORTH_LATITUDE: 47 56 15.00000
SOUTH_LATITUDE: 47 52 30.00000
PRODUCTION_DATE: 2000 5 31
RASTER_ORDER: LEFT_RIGHT/TOP_BOTTOM
BAND_ORGANIZATION: SINGLE FILE
BAND_CONTENT: BLACK&WHITE
BAND_CONTENT: UNDEFINED
BAND_CONTENT: UNDEFINED
BITS_PER_PIXEL: 8
SAMPLES_AND_LINES: 5516 7679
HORIZONTAL_DATUM: NAD83
HORIZONTAL_COORDINATE_SYSTEM: UTM
COORDINATE_ZONE: 12
HORIZONTAL_UNITS: METERS
HORIZONTAL_RESOLUTION: 1.00000
SECONDARY_HORIZONTAL_DATUM: NAD27
XY_ORIGIN: 653680.00000 5311840.00000
SECONDARY_XY_ORIGIN: 653738.68600 5311623.94000
NATION: US
NATION: "SCIENCE
STATE: MT
NW_QUAD_CORNER_XY: 654035.59800 5311412.37100
NE_QUAD_CORNER_XY: 658703.12900 5311539.05800
SE_QUAD_CORNERY_XY: 658894.38100 5304593.03600
SW_QUAD_CORNER_XY: 654221.22000 5304466.32100
SECONDARY_NW_QUAD_XY: 654040.43900 5311193.57100
SECONDARY_NE_QUAD_XY: 658708.11700 5311320.26100
SECONDARY_SE_QUAD_XY: 658899.36800 5304374.25500
SECONDARY_SW_QUAD_XY: 654226.06100 5304247.53700
RMSE_XY: 1.70000
IMAGE_SOURCE: BLACK AND WHITE FILM
SOURCE_IMAGE_ID: NAPP 9147 129
SOURCE_IMAGE_DATE: 1996 08 24
SOURCE_IMAGE_ID: NAPP 9147 128
SOURCE_IMAGE_DATE: 1996 08 24
SOURCE_IMAGE_ID: NAPP 9147 130
SOURCE_IMAGE_DATE: 1996 08 24
SOURCE_IMAGE_ID: NAPP 9157 075
SOURCE_IMAGE_DATE: 1997 09 05
SOURCE_DEM_DATE: 1970 00 00
AGENCY: WESTERN MAPPING CENTER (WMC)
PRODUCER: UNDEFINED
PRODUCTION_SYSTEM: GIS/MAGIC
COMPRESSION: UNDEFINED
STANDARD_VERSION: 1996 12
METADATA_DATE: 2000 06 14
DATA_FILE_SIZE: 42362880
BYTE_COUNT: 5516
