FILENAME: O4710801.SWS.1080677.tif
QUADRANGLE_NAME: JOHN COULEE
QUADRANT: SW
WEST_LONGITUDE: -109 0 0.00000
EAST_LONGITUDE: -108 56 15.00000
NORTH_LATITUDE: 47 56 15.00000
SOUTH_LATITUDE: 47 52 30.00000
PRODUCTION_DATE: 2000 5 31
RASTER_ORDER: LEFT_RIGHT/TOP_BOTTOM
BAND_ORGANIZATION: SINGLE FILE
BAND_CONTENT: BLACK&WHITE
BAND_CONTENT: UNDEFINED
BAND_CONTENT: UNDEFINED
BITS_PER_PIXEL: 8
SAMPLES_AND_LINES: 5510 7675
HORIZONTAL_DATUM: NAD83
HORIZONTAL_COORDINATE_SYSTEM: UTM
COORDINATE_ZONE: 12
HORIZONTAL_UNITS: METERS
HORIZONTAL_RESOLUTION: 1.00000
SECONDARY_HORIZONTAL_DATUM: NAD27
XY_ORIGIN: 649013.00000 5311713.00000
SECONDARY_XY_ORIGIN: 649071.69800 5311497.01200
NATION: US
NATION: "SCIENCE
STATE: MT
NW_QUAD_CORNER_XY: 649368.04700 5311289.46900
NE_QUAD_CORNER_XY: 654035.59800 5311412.37100
SE_QUAD_CORNERY_XY: 654221.22000 5304466.32100
SW_QUAD_CORNER_XY: 649548.04100 5304343.39200
SECONDARY_NW_QUAD_XY: 649372.74200 5311070.66500
SECONDARY_NE_QUAD_XY: 654040.43900 5311193.57100
SECONDARY_SE_QUAD_XY: 654226.06100 5304247.53700
SECONDARY_SW_QUAD_XY: 649552.73500 5304124.60400
RMSE_XY: 1.80000
IMAGE_SOURCE: BLACK AND WHITE FILM
SOURCE_IMAGE_ID: NAPP 9147 201
SOURCE_IMAGE_DATE: 1996 08 24
SOURCE_IMAGE_ID: NAPP 9157 247
SOURCE_IMAGE_DATE: 1997 09 05
SOURCE_IMAGE_ID: NAPP 9157 246
SOURCE_IMAGE_DATE: 1997 09 05
SOURCE_IMAGE_ID: NAPP 9157 245
SOURCE_IMAGE_DATE: 1997 09 05
SOURCE_IMAGE_ID: NAPP 9147 203
SOURCE_IMAGE_DATE: 1996 08 24
SOURCE_DEM_DATE: 1970 00 00
AGENCY: WESTERN MAPPING CENTER (WMC)
PRODUCER: UNDEFINED
PRODUCTION_SYSTEM: GIS/MAGIC
COMPRESSION: UNDEFINED
STANDARD_VERSION: 1996 12
METADATA_DATE: 2000 06 14
DATA_FILE_SIZE: 42294760
BYTE_COUNT: 5510
