BEGIN_USGS_DOQ_HEADER *
QUADRANGLE_NAME "Pike Creek" 3.75 or 7.5-min. name*
QUADRANT SW quadrant indicator if cell size = 3.75-minutes*
WEST_LONGITUDE -109 22 30.000 signed deg min sec SDDD MM SS.SSS*
EAST_LONGITUDE -109 18 45.000 signed deg min sec SDDD MM SS.SSS*
NORTH_LATITUDE 47 3 45.000 signed deg min sec SDDD MM SS.SSS*
SOUTH_LATITUDE 47 0 0.000 signed deg min sec SDDD MM SS.SSS*
PRODUCTION_DATE 2003 9 11 yyyy mm dd*
RASTER_ORDER left_right/top_bottom video display order*
BAND_ORGANIZATION "single file" single file or BSQ, or BIL or BIP*
BAND_CONTENT BLACK&WHITE black&white or red green blue*
BITS_PER_PIXEL 8 radiometric resolution*
SAMPLES_AND_LINES 5552 7651 number of columns and rows*
HORIZONTAL_DATUM NAD83 primary horizontal datum*
HORIZONTAL_COORDINATE_SYSTEM UTM *
COORDINATE_ZONE 12 coordinate system zone number*
HORIZONTAL_UNITS meters coordinate system units*
HORIZONTAL_RESOLUTION 1.00 pixel horiz. ground sample distance*
SECONDARY_HORIZONTAL_DATUM NAD27 secondary horizontal datum*
XY_ORIGIN 623040.970 5213790.740 coord. of upper left pixel pri. datum*
SECONDARY_XY_ORIGIN 623100.566 5213576.340 coord upper left pixel sec datum*
NATION US nation code*
STATE MT state fip code*
NW_QUAD_CORNER_XY 623396.255 5213390.779 XY coords. of pri. NW quad corner*
NE_QUAD_CORNER_XY 628142.169 5213491.244 XY coords. of pri. NE quad corner*
SE_QUAD_CORNER_XY 628291.890 5206546.017 XY coords. of pri. SE quad corner*
SW_QUAD_CORNER_XY 623540.428 5206445.537 XY coords. of pri. SW quad corner*
SECONDARY_NW_QUAD_XY 623400.063 5213172.256 XY coords. - sec. NW quad cor.*
SECONDARY_NE_QUAD_XY 628146.124 5213272.724 XY coords. - sec. NE quad cor.*
SECONDARY_SE_QUAD_XY 628295.844 5206327.526 XY coords. - sec. SE quad cor.*
SECONDARY_SW_QUAD_XY 623544.235 5206227.042 XY coords. - sec. SW quad cor.*
RMSE_XY 1.51 doq horiz. accuracy*
IMAGE_SOURCE "BLACK AND WHITE FILM" b&w, cir, natural color, other*
SOURCE_IMAGE_ID "NAPP 9153 141" source image id*
SOURCE_IMAGE_DATE 1997 8 28 source image date as yyyy mm dd*
SOURCE_IMAGE_ID "NAPP 9153 126" source image id*
SOURCE_IMAGE_DATE 1997 8 28 source image date as yyyy mm dd*
SOURCE_IMAGE_ID "NAPP 9153 127" source image id*
SOURCE_IMAGE_DATE 1997 8 28 source image date as yyyy mm dd*
SOURCE_IMAGE_ID "NAPP 9153 037" source image id*
SOURCE_IMAGE_DATE 1997 8 28 source image date as yyyy mm dd*
SOURCE_IMAGE_ID "NAPP 9153 125" source image id*
SOURCE_IMAGE_DATE 1997 8 28 source image date as yyyy mm dd*
SOURCE_IMAGE_ID "NAPP 9153 142" source image id*
SOURCE_IMAGE_DATE 1997 8 28 source image date as yyyy mm dd*
SOURCE_IMAGE_ID "NAPP 9153 140" source image id*
SOURCE_IMAGE_DATE 1997 8 28 source image date as yyyy mm dd*
SOURCE_DEM_DATE 1982 1 1 source dem date yyyy mm dd*
AGENCY "ROCKY MOUNTAIN MAPPING CENTER (RMMC)" oversight agency*
PRODUCER "ROCKY MOUNTAIN MAPPING CENTER (RMMC)" producer/contractor*
PRODUCTION_SYSTEM "ImageStation OrthoPro 4, 0, 0, 5" production system*
STANDARD_VERSION 1996 12 version of DOQ standard*
METADATA_DATE 2003 9 11 date created or changed, yyyy mm dd*
DATA_FILE_SIZE 42483904 data set size in bytes*
BYTE_COUNT 5552 header byte count*
