BEGIN_USGS_DOQ_HEADER *
QUADRANGLE_NAME "DENTON" 3.75 or 7.5-min. name*
QUADRANT NW quadrant indicator if cell size = 3.75-minutes*
WEST_LONGITUDE -110 0 0.000 signed deg min sec SDDD MM SS.SSS*
EAST_LONGITUDE -109 56 15.000 signed deg min sec SDDD MM SS.SSS*
NORTH_LATITUDE 47 22 30.000 signed deg min sec SDDD MM SS.SSS*
SOUTH_LATITUDE 47 18 45.000 signed deg min sec SDDD MM SS.SSS*
PRODUCTION_DATE 2002 12 17 yyyy mm dd*
RASTER_ORDER LEFT_RIGHT/TOP_BOTTOM video display order*
BAND_ORGANIZATION "SINGLE FILE" single file or BSQ, or BIL or BIP*
BAND_CONTENT BLACK&WHITE black&white or red green blue*
BITS_PER_PIXEL 8 radiometric resolution*
SAMPLES_AND_LINES 5473 7615 number of columns and rows*
HORIZONTAL_DATUM NAD83 primary horizontal datum*
HORIZONTAL_COORDINATE_SYSTEM UTM *
COORDINATE_ZONE 12 coordinate system zone number*
HORIZONTAL_UNITS METERS coordinate system units*
HORIZONTAL_RESOLUTION 1.00 pixel horiz. ground sample distance*
SECONDARY_HORIZONTAL_DATUM NAD27 secondary horizontal datum*
XY_ORIGIN 575134.000 5247686.000 coord. of upper left pixel pri. datum*
SECONDARY_XY_ORIGIN 575193.149 5247470.997 coord upper left pixel sec datum*
NATION US nation code*
STATE MT state fip code*
NW_QUAD_CORNER_XY 575491.698 5247322.633 XY coords. of pri. NW quad corner*
NE_QUAD_CORNER_XY 580209.887 5247385.125 XY coords. of pri. NE quad corner*
SE_QUAD_CORNER_XY 580304.623 5240439.404 XY coords. of pri. SE quad corner*
SW_QUAD_CORNER_XY 575580.861 5240376.901 XY coords. of pri. SW quad corner*
SECONDARY_NW_QUAD_XY 575494.043 5247103.958 XY coords. - sec. NW quad cor.*
SECONDARY_NE_QUAD_XY 580212.378 5247166.452 XY coords. - sec. NE quad cor.*
SECONDARY_SE_QUAD_XY 580307.114 5240220.755 XY coords. - sec. SE quad cor.*
SECONDARY_SW_QUAD_XY 575583.205 5240158.250 XY coords. - sec. SW quad cor.*
RMSE_XY 0.90 doq horiz. accuracy*
IMAGE_SOURCE "BLACK AND WHITE FILM" b&w, cir, natural color, other*
SOURCE_IMAGE_ID "NAPP 9160 009" source image id*
SOURCE_IMAGE_DATE 1997 9 23 source image date as yyyy mm dd*
SOURCE_DEM_DATE 1968 00 00 source dem date yyyy mm dd*
AGENCY "ROCKY MOUNTAIN MAPPING CENTER (RMMC)" oversight agency*
PRODUCER "ROCKY MOUNTAIN MAPPING CENTER (RMMC)" *
PRODUCTION_SYSTEM "DV2.6.4 1/00 OV2.6 6/00" production system*
STANDARD_VERSION 1996 12 version of DOQ standard*
METADATA_DATE 2002 12 17 date created or changed, yyyy mm dd*
DATA_FILE_SIZE 41682368 data set size in bytes*
BYTE_COUNT 5473 header byte count*
