BEGIN_USGS_DOQ_HEADER *
QUADRANGLE_NAME "WILD BILL FLAT WEST" 3.75 or 7.5-min. name*
QUADRANT SE quadrant indicator if cell size = 3.75-minutes*
WEST_LONGITUDE -109 41 15.000 signed deg min sec SDDD MM SS.SSS*
EAST_LONGITUDE -109 37 30.000 signed deg min sec SDDD MM SS.SSS*
NORTH_LATITUDE 47 26 15.000 signed deg min sec SDDD MM SS.SSS*
SOUTH_LATITUDE 47 22 30.000 signed deg min sec SDDD MM SS.SSS*
PRODUCTION_DATE 2003 1 6 yyyy mm dd*
RASTER_ORDER LEFT_RIGHT/TOP_BOTTOM video display order*
BAND_ORGANIZATION "SINGLE FILE" single file or BSQ, or BIL or BIP*
BAND_CONTENT BLACK&WHITE black&white or red green blue*
BITS_PER_PIXEL 8 radiometric resolution*
SAMPLES_AND_LINES 5495 7633 number of columns and rows*
HORIZONTAL_DATUM NAD83 primary horizontal datum*
HORIZONTAL_COORDINATE_SYSTEM UTM *
COORDINATE_ZONE 12 coordinate system zone number*
HORIZONTAL_UNITS METERS coordinate system units*
HORIZONTAL_RESOLUTION 1.00 pixel horiz. ground sample distance*
SECONDARY_HORIZONTAL_DATUM NAD27 secondary horizontal datum*
XY_ORIGIN 598608.000 5255001.000 coord. of upper left pixel pri. datum*
SECONDARY_XY_ORIGIN 598667.161 5254785.628 coord upper left pixel sec datum*
NATION US nation code*
STATE MT state fip code*
NW_QUAD_CORNER_XY 598965.405 5254618.719 XY coords. of pri. NW quad corner*
NE_QUAD_CORNER_XY 603677.970 5254700.139 XY coords. of pri. NE quad corner*
SE_QUAD_CORNER_XY 603800.702 5247754.411 XY coords. of pri. SE quad corner*
SW_QUAD_CORNER_XY 599082.558 5247672.976 XY coords. of pri. SW quad corner*
SECONDARY_NW_QUAD_XY 598968.484 5254400.032 XY coords. - sec. NW quad cor.*
SECONDARY_NE_QUAD_XY 603681.195 5254481.454 XY coords. - sec. NE quad cor.*
SECONDARY_SE_QUAD_XY 603803.927 5247535.749 XY coords. - sec. SE quad cor.*
SECONDARY_SW_QUAD_XY 599085.635 5247454.312 XY coords. - sec. SW quad cor.*
RMSE_XY 0.90 doq horiz. accuracy*
IMAGE_SOURCE "BLACK AND WHITE FILM" b&w, cir, natural color, other*
SOURCE_IMAGE_ID " NAPP 9159- 236" source image id*
SOURCE_IMAGE_DATE 1997 9 22 source image date as yyyy mm dd*
SOURCE_DEM_DATE 1971 00 00 source dem date yyyy mm dd*
AGENCY "ROCKY MOUNTAIN MAPPING CENTER (RMMC)" oversight agency*
PRODUCER "ROCKY MOUNTAIN MAPPING CENTER (RMMC)" *
PRODUCTION_SYSTEM "DV2.6.4 1/00 OV2.6 6/00" production system*
STANDARD_VERSION 1996 12 version of DOQ standard*
METADATA_DATE 2003 1 6 date created or changed, yyyy mm dd*
DATA_FILE_SIZE 41948830 data set size in bytes*
BYTE_COUNT 5495 header byte count*
