BEGIN_USGS_DOQ_HEADER *
QUADRANGLE_NAME "SODA SPRING COULEE" 3.75 or 7.5-min. name*
QUADRANT NE quadrant indicator if cell size = 3.75-minutes*
WEST_LONGITUDE -109 48 45.000 signed deg min sec SDDD MM SS.SSS*
EAST_LONGITUDE -109 45 0.000 signed deg min sec SDDD MM SS.SSS*
NORTH_LATITUDE 47 30 0.000 signed deg min sec SDDD MM SS.SSS*
SOUTH_LATITUDE 47 26 15.000 signed deg min sec SDDD MM SS.SSS*
PRODUCTION_DATE 2002 12 19 yyyy mm dd*
RASTER_ORDER LEFT_RIGHT/TOP_BOTTOM video display order*
BAND_ORGANIZATION "SINGLE FILE" single file or BSQ, or BIL or BIP*
BAND_CONTENT BLACK&WHITE black&white or red green blue*
BITS_PER_PIXEL 8 radiometric resolution*
SAMPLES_AND_LINES 5478 7626 number of columns and rows*
HORIZONTAL_DATUM NAD83 primary horizontal datum*
HORIZONTAL_COORDINATE_SYSTEM UTM *
COORDINATE_ZONE 12 coordinate system zone number*
HORIZONTAL_UNITS METERS coordinate system units*
HORIZONTAL_RESOLUTION 1.00 pixel horiz. ground sample distance*
SECONDARY_HORIZONTAL_DATUM NAD27 secondary horizontal datum*
XY_ORIGIN 589077.000 5261788.000 coord. of upper left pixel pri. datum*
SECONDARY_XY_ORIGIN 589136.000 5261573.000 coord upper left pixel sec datum*
NATION US nation code*
STATE MT state fip code*
NW_QUAD_CORNER_XY 589434.149 5261413.086 XY coords. of pri. NW quad corner*
NE_QUAD_CORNER_XY 594141.146 5261486.916 XY coords. of pri. NE quad corner*
SE_QUAD_CORNER_XY 594252.831 5254541.087 XY coords. of pri. SE quad corner*
SW_QUAD_CORNER_XY 589540.248 5254467.244 XY coords. of pri. SW quad corner*
SECONDARY_NW_QUAD_XY 589436.934 5261194.373 XY coords. - sec. NW quad cor.*
SECONDARY_NE_QUAD_XY 594144.078 5261268.205 XY coords. - sec. NE quad cor.*
SECONDARY_SE_QUAD_XY 594255.763 5254322.398 XY coords. - sec. SE quad cor.*
SECONDARY_SW_QUAD_XY 589543.033 5254248.552 XY coords. - sec. SW quad cor.*
RMSE_XY 2.30 doq horiz. accuracy*
IMAGE_SOURCE "BLACK AND WHITE FILM" b&w, cir, natural color, other*
SOURCE_IMAGE_ID "NAPP 9128 149" source image id*
SOURCE_IMAGE_DATE 1996 7 29 source image date as yyyy mm dd*
SOURCE_DEM_DATE 1971 00 00 source dem date yyyy mm dd*
AGENCY "ROCKY MOUNTAIN MAPPING CENTER (RMMC)" oversight agency*
PRODUCER "ROCKY MOUNTAIN MAPPING CENTER (RMMC)" *
PRODUCTION_SYSTEM "DV2.6.4 1/00 OV2.6 6/00" production system*
STANDARD_VERSION 1996 12 version of DOQ standard*
METADATA_DATE 2002 12 19 date created or changed, yyyy mm dd*
DATA_FILE_SIZE 41780706 data set size in bytes*
BYTE_COUNT 5478 header byte count*
