FILENAME: O4710933.NES.1078963.tif
QUADRANGLE_NAME: POSSUM RUN CREEK
QUADRANT: NE
WEST_LONGITUDE: -109 56 15.00000
EAST_LONGITUDE: -109 52 30.00000
NORTH_LATITUDE: 47 30 0.00000
SOUTH_LATITUDE: 47 26 15.00000
PRODUCTION_DATE: 2000 6 4
RASTER_ORDER: LEFT_RIGHT/TOP_BOTTOM
BAND_ORGANIZATION: SINGLE FILE
BAND_CONTENT: BLACK&WHITE
BAND_CONTENT: UNDEFINED
BAND_CONTENT: UNDEFINED
BITS_PER_PIXEL: 8
SAMPLES_AND_LINES: 5467 7619
HORIZONTAL_DATUM: NAD83
HORIZONTAL_COORDINATE_SYSTEM: UTM
COORDINATE_ZONE: 12
HORIZONTAL_UNITS: METERS
HORIZONTAL_RESOLUTION: 1.00000
SECONDARY_HORIZONTAL_DATUM: NAD27
XY_ORIGIN: 579662.00000 5261644.00000
SECONDARY_XY_ORIGIN: 579720.97700 5261428.57000
NATION: US
NATION: "SCIENCE
STATE: MT
NW_QUAD_CORNER_XY: 580020.12600 5261276.78700
NE_QUAD_CORNER_XY: 584727.14100 5261343.04300
SE_QUAD_CORNERY_XY: 584827.65500 5254397.18700
SW_QUAD_CORNER_XY: 580115.05400 5254330.91900
SECONDARY_NW_QUAD_XY: 580022.61800 5261058.06900
SECONDARY_NE_QUAD_XY: 584729.78000 5261124.32700
SECONDARY_SE_QUAD_XY: 584830.29400 5254178.49400
SECONDARY_SW_QUAD_XY: 580117.54600 5254112.22300
RMSE_XY: 2.80000
IMAGE_SOURCE: BLACK AND WHITE FILM
SOURCE_IMAGE_ID: NAPP 9159 267
SOURCE_IMAGE_DATE: 1997 09 22
SOURCE_IMAGE_ID: NAPP 9159 266
SOURCE_IMAGE_DATE: 1997 09 22
SOURCE_IMAGE_ID: NAPP 9159 268
SOURCE_IMAGE_DATE: 1997 09 22
SOURCE_DEM_DATE: 1971 00 00
AGENCY: WESTERN MAPPING CENTER (WMC)
PRODUCER: UNDEFINED
PRODUCTION_SYSTEM: GIS/MAGIC
COMPRESSION: UNDEFINED
STANDARD_VERSION: 1996 12
METADATA_DATE: 2000 06 07
DATA_FILE_SIZE: 41658540
BYTE_COUNT: 5467
