FILENAME: O4710932.SWS.1082431.tif
QUADRANGLE_NAME: BAKERS SPRING
QUADRANT: SW
WEST_LONGITUDE: -109 7 30.00000
EAST_LONGITUDE: -109 3 45.00000
NORTH_LATITUDE: 47 33 45.00000
SOUTH_LATITUDE: 47 30 0.00000
PRODUCTION_DATE: 2000 6 13
RASTER_ORDER: LEFT_RIGHT/TOP_BOTTOM
BAND_ORGANIZATION: SINGLE FILE
BAND_CONTENT: BLACK&WHITE
BAND_CONTENT: UNDEFINED
BAND_CONTENT: UNDEFINED
BITS_PER_PIXEL: 8
SAMPLES_AND_LINES: 5532 7667
HORIZONTAL_DATUM: NAD83
HORIZONTAL_COORDINATE_SYSTEM: UTM
COORDINATE_ZONE: 12
HORIZONTAL_UNITS: METERS
HORIZONTAL_RESOLUTION: 1.00000
SECONDARY_HORIZONTAL_DATUM: NAD27
XY_ORIGIN: 640687.00000 5269795.00000
SECONDARY_XY_ORIGIN: 640745.86900 5269579.55900
NATION: US
NATION: "SCIENCE
STATE: MT
NW_QUAD_CORNER_XY: 641042.79000 5269379.26400
NE_QUAD_CORNER_XY: 645744.06000 5269494.74100
SE_QUAD_CORNERY_XY: 645917.38100 5262549.04200
SW_QUAD_CORNER_XY: 641210.51500 5262433.54200
SECONDARY_NW_QUAD_XY: 641047.18800 5269160.56100
SECONDARY_NE_QUAD_XY: 645748.60600 5269276.04200
SECONDARY_SE_QUAD_XY: 645921.92500 5262330.36400
SECONDARY_SW_QUAD_XY: 641214.91400 5262214.86100
RMSE_XY: 1.90000
IMAGE_SOURCE: BLACK AND WHITE FILM
SOURCE_IMAGE_ID: NAPP 9129 196
SOURCE_IMAGE_DATE: 1996 07 27
SOURCE_IMAGE_ID: NAPP 9129 195
SOURCE_IMAGE_DATE: 1996 07 27
SOURCE_IMAGE_ID: NAPP 9129 042
SOURCE_IMAGE_DATE: 1996 07 27
SOURCE_DEM_DATE: 1993 00 00
AGENCY: WESTERN MAPPING CENTER (WMC)
PRODUCER: UNDEFINED
PRODUCTION_SYSTEM: GIS/MAGIC
COMPRESSION: UNDEFINED
STANDARD_VERSION: 1996 12
METADATA_DATE: 2000 06 15
DATA_FILE_SIZE: 42419376
BYTE_COUNT: 5532
