FILENAME: O4710931.SES.1081188.tif
QUADRANGLE_NAME: GERHARD CORNER
QUADRANT: SE
WEST_LONGITUDE: -109 11 15.00000
EAST_LONGITUDE: -109 7 30.00000
NORTH_LATITUDE: 47 33 45.00000
SOUTH_LATITUDE: 47 30 0.00000
PRODUCTION_DATE: 2000 6 12
RASTER_ORDER: LEFT_RIGHT/TOP_BOTTOM
BAND_ORGANIZATION: SINGLE FILE
BAND_CONTENT: BLACK&WHITE
BAND_CONTENT: UNDEFINED
BAND_CONTENT: UNDEFINED
BITS_PER_PIXEL: 8
SAMPLES_AND_LINES: 5527 7664
HORIZONTAL_DATUM: NAD83
HORIZONTAL_COORDINATE_SYSTEM: UTM
COORDINATE_ZONE: 12
HORIZONTAL_UNITS: METERS
HORIZONTAL_RESOLUTION: 1.00000
SECONDARY_HORIZONTAL_DATUM: NAD27
XY_ORIGIN: 635985.00000 5269680.00000
SECONDARY_XY_ORIGIN: 636043.93400 5269464.55900
NATION: US
NATION: "SCIENCE
STATE: MT
NW_QUAD_CORNER_XY: 636341.50400 5269267.57400
NE_QUAD_CORNER_XY: 641042.79000 5269379.26400
SE_QUAD_CORNERY_XY: 641210.51500 5262433.54200
SW_QUAD_CORNER_XY: 636503.63600 5262321.83200
SECONDARY_NW_QUAD_XY: 636345.75600 5269048.86800
SECONDARY_NE_QUAD_XY: 641047.18800 5269160.56100
SECONDARY_SE_QUAD_XY: 641214.91400 5262214.86100
SECONDARY_SW_QUAD_XY: 636507.88700 5262103.14700
RMSE_XY: 0.90000
IMAGE_SOURCE: BLACK AND WHITE FILM
SOURCE_IMAGE_ID: NAPP 9130 048
SOURCE_IMAGE_DATE: 1996 07 27
SOURCE_IMAGE_ID: NAPP 9156 015
SOURCE_IMAGE_DATE: 1997 08 29
SOURCE_IMAGE_ID: NAPP 9130 047
SOURCE_IMAGE_DATE: 1996 07 27
SOURCE_DEM_DATE: 1978 00 00
AGENCY: WESTERN MAPPING CENTER (WMC)
PRODUCER: UNDEFINED
PRODUCTION_SYSTEM: GIS/MAGIC
COMPRESSION: UNDEFINED
STANDARD_VERSION: 1996 12
METADATA_DATE: 2000 06 15
DATA_FILE_SIZE: 42364455
BYTE_COUNT: 5527
