FILENAME: O4710930.NWS.1081166.tif
QUADRANGLE_NAME: WINIFRED EAST
QUADRANT: NW
WEST_LONGITUDE: -109 22 30.00000
EAST_LONGITUDE: -109 18 45.00000
NORTH_LATITUDE: 47 37 30.00000
SOUTH_LATITUDE: 47 33 45.00000
PRODUCTION_DATE: 2000 6 8
RASTER_ORDER: LEFT_RIGHT/TOP_BOTTOM
BAND_ORGANIZATION: SINGLE FILE
BAND_CONTENT: BLACK&WHITE
BAND_CONTENT: UNDEFINED
BAND_CONTENT: UNDEFINED
BITS_PER_PIXEL: 8
SAMPLES_AND_LINES: 5505 7653
HORIZONTAL_DATUM: NAD83
HORIZONTAL_COORDINATE_SYSTEM: UTM
COORDINATE_ZONE: 12
HORIZONTAL_UNITS: METERS
HORIZONTAL_RESOLUTION: 1.00000
SECONDARY_HORIZONTAL_DATUM: NAD27
XY_ORIGIN: 621735.00000 5276302.00000
SECONDARY_XY_ORIGIN: 621794.01300 5276086.43500
NATION: US
NATION: "SCIENCE
STATE: MT
NW_QUAD_CORNER_XY: 622092.06600 5275901.10800
NE_QUAD_CORNER_XY: 626787.79400 5276001.41300
SE_QUAD_CORNERY_XY: 626938.89100 5269055.56100
SW_QUAD_CORNER_XY: 622237.56400 5268955.23500
SECONDARY_NW_QUAD_XY: 622095.87900 5275682.37100
SECONDARY_NE_QUAD_XY: 626791.75400 5275782.68000
SECONDARY_SE_QUAD_XY: 626942.84900 5268836.84800
SECONDARY_SW_QUAD_XY: 622241.37600 5268736.51900
RMSE_XY: 2.30000
IMAGE_SOURCE: BLACK AND WHITE FILM
SOURCE_IMAGE_ID: NAPP 9156 063
SOURCE_IMAGE_DATE: 1997 08 29
SOURCE_IMAGE_ID: NAPP 9163 011
SOURCE_IMAGE_DATE: 1998 07 23
SOURCE_IMAGE_ID: NAPP 9156 062
SOURCE_IMAGE_DATE: 1997 08 29
SOURCE_IMAGE_ID: NAPP 9156 064
SOURCE_IMAGE_DATE: 1997 08 29
SOURCE_IMAGE_ID: NAPP 9156 040
SOURCE_IMAGE_DATE: 1997 08 29
SOURCE_DEM_DATE: 1978 00 00
AGENCY: WESTERN MAPPING CENTER (WMC)
PRODUCER: UNDEFINED
PRODUCTION_SYSTEM: GIS/MAGIC
COMPRESSION: UNDEFINED
STANDARD_VERSION: 1996 12
METADATA_DATE: 2000 06 15
DATA_FILE_SIZE: 42135270
BYTE_COUNT: 5505
