FILENAME: O4710929.NES.1081101.tif
QUADRANGLE_NAME: WINIFRED WEST
QUADRANT: NE
WEST_LONGITUDE: -109 26 15.00000
EAST_LONGITUDE: -109 22 30.00000
NORTH_LATITUDE: 47 37 30.00000
SOUTH_LATITUDE: 47 33 45.00000
PRODUCTION_DATE: 2000 6 8
RASTER_ORDER: LEFT_RIGHT/TOP_BOTTOM
BAND_ORGANIZATION: SINGLE FILE
BAND_CONTENT: BLACK&WHITE
BAND_CONTENT: UNDEFINED
BAND_CONTENT: UNDEFINED
BITS_PER_PIXEL: 8
SAMPLES_AND_LINES: 5500 7649
HORIZONTAL_DATUM: NAD83
HORIZONTAL_COORDINATE_SYSTEM: UTM
COORDINATE_ZONE: 12
HORIZONTAL_UNITS: METERS
HORIZONTAL_RESOLUTION: 1.00000
SECONDARY_HORIZONTAL_DATUM: NAD27
XY_ORIGIN: 617039.00000 5276202.00000
SECONDARY_XY_ORIGIN: 617098.05100 5275986.41100
NATION: US
NATION: "SCIENCE
STATE: MT
NW_QUAD_CORNER_XY: 617396.32500 5275804.58900
NE_QUAD_CORNER_XY: 622092.06600 5275901.10800
SE_QUAD_CORNERY_XY: 622237.56400 5268955.23500
SW_QUAD_CORNER_XY: 617536.22400 5268858.69800
SECONDARY_NW_QUAD_XY: 617399.99100 5275585.84900
SECONDARY_NE_QUAD_XY: 622095.87900 5275682.37100
SECONDARY_SE_QUAD_XY: 622241.37600 5268736.51900
SECONDARY_SW_QUAD_XY: 617539.88900 5268639.97900
RMSE_XY: 1.70000
IMAGE_SOURCE: BLACK AND WHITE FILM
SOURCE_IMAGE_ID: NAPP 9163 011
SOURCE_IMAGE_DATE: 1998 07 23
SOURCE_IMAGE_ID: NAPP 9159 021
SOURCE_IMAGE_DATE: 1997 09 22
SOURCE_IMAGE_ID: NAPP 9163 010
SOURCE_IMAGE_DATE: 1998 07 23
SOURCE_IMAGE_ID: NAPP 9163 012
SOURCE_IMAGE_DATE: 1998 07 23
SOURCE_DEM_DATE: 1978 00 00
AGENCY: WESTERN MAPPING CENTER (WMC)
PRODUCER: UNDEFINED
PRODUCTION_SYSTEM: GIS/MAGIC
COMPRESSION: UNDEFINED
STANDARD_VERSION: 1996 12
METADATA_DATE: 2000 06 15
DATA_FILE_SIZE: 42075000
BYTE_COUNT: 5500
