FILENAME: O4710929.NWS.1081102.tif
QUADRANGLE_NAME: WINIFRED WEST
QUADRANT: NW
WEST_LONGITUDE: -109 30 0.00000
EAST_LONGITUDE: -109 26 15.00000
NORTH_LATITUDE: 47 37 30.00000
SOUTH_LATITUDE: 47 33 45.00000
PRODUCTION_DATE: 2000 6 6
RASTER_ORDER: LEFT_RIGHT/TOP_BOTTOM
BAND_ORGANIZATION: SINGLE FILE
BAND_CONTENT: BLACK&WHITE
BAND_CONTENT: UNDEFINED
BAND_CONTENT: UNDEFINED
BITS_PER_PIXEL: 8
SAMPLES_AND_LINES: 5494 7645
HORIZONTAL_DATUM: NAD83
HORIZONTAL_COORDINATE_SYSTEM: UTM
COORDINATE_ZONE: 12
HORIZONTAL_UNITS: METERS
HORIZONTAL_RESOLUTION: 1.00000
SECONDARY_HORIZONTAL_DATUM: NAD27
XY_ORIGIN: 612344.00000 5276105.00000
SECONDARY_XY_ORIGIN: 612403.08800 5275889.38700
NATION: US
NATION: "SCIENCE
STATE: MT
NW_QUAD_CORNER_XY: 612700.57100 5275711.85700
NE_QUAD_CORNER_XY: 617396.32500 5275804.58900
SE_QUAD_CORNERY_XY: 617536.22400 5268858.69800
SW_QUAD_CORNER_XY: 612834.87100 5268765.94800
SECONDARY_NW_QUAD_XY: 612704.09000 5275493.11500
SECONDARY_NE_QUAD_XY: 617399.99100 5275585.84900
SECONDARY_SE_QUAD_XY: 617539.88900 5268639.97900
SECONDARY_SW_QUAD_XY: 612838.39000 5268547.22600
RMSE_XY: 2.30000
IMAGE_SOURCE: BLACK AND WHITE FILM
SOURCE_IMAGE_ID: NAPP 9159 021
SOURCE_IMAGE_DATE: 1997 09 22
SOURCE_IMAGE_ID: NAPP 9159 020
SOURCE_IMAGE_DATE: 1997 09 22
SOURCE_IMAGE_ID: NAPP 9159 022
SOURCE_IMAGE_DATE: 1997 09 22
SOURCE_DEM_DATE: 1978 00 00
AGENCY: WESTERN MAPPING CENTER (WMC)
PRODUCER: UNDEFINED
PRODUCTION_SYSTEM: GIS/MAGIC
COMPRESSION: UNDEFINED
STANDARD_VERSION: 1996 12
METADATA_DATE: 2000 06 15
DATA_FILE_SIZE: 42007124
BYTE_COUNT: 5494
