FILENAME: O4710929.SWS.1081103.tif
QUADRANGLE_NAME: WINIFRED WEST
QUADRANT: SW
WEST_LONGITUDE: -109 30 0.00000
EAST_LONGITUDE: -109 26 15.00000
NORTH_LATITUDE: 47 33 45.00000
SOUTH_LATITUDE: 47 30 0.00000
PRODUCTION_DATE: 2000 6 6
RASTER_ORDER: LEFT_RIGHT/TOP_BOTTOM
BAND_ORGANIZATION: SINGLE FILE
BAND_CONTENT: BLACK&WHITE
BAND_CONTENT: UNDEFINED
BAND_CONTENT: UNDEFINED
BITS_PER_PIXEL: 8
SAMPLES_AND_LINES: 5499 7645
HORIZONTAL_DATUM: NAD83
HORIZONTAL_COORDINATE_SYSTEM: UTM
COORDINATE_ZONE: 12
HORIZONTAL_UNITS: METERS
HORIZONTAL_RESOLUTION: 1.00000
SECONDARY_HORIZONTAL_DATUM: NAD27
XY_ORIGIN: 612478.00000 5269159.00000
SECONDARY_XY_ORIGIN: 612537.17100 5268943.47700
NATION: US
NATION: "SCIENCE
STATE: MT
NW_QUAD_CORNER_XY: 612834.87100 5268765.94800
NE_QUAD_CORNER_XY: 617536.22400 5268858.69800
SE_QUAD_CORNERY_XY: 617675.98200 5261912.87700
SW_QUAD_CORNER_XY: 612969.03700 5261820.11000
SECONDARY_NW_QUAD_XY: 612838.39000 5268547.22600
SECONDARY_NE_QUAD_XY: 617539.88900 5268639.97900
SECONDARY_SE_QUAD_XY: 617679.64700 5261694.18000
SECONDARY_SW_QUAD_XY: 612972.55500 5261601.40900
RMSE_XY: 1.90000
IMAGE_SOURCE: BLACK AND WHITE FILM
SOURCE_IMAGE_ID: NAPP 9159 019
SOURCE_IMAGE_DATE: 1997 09 22
SOURCE_IMAGE_ID: NAPP 9159 117
SOURCE_IMAGE_DATE: 1997 09 22
SOURCE_IMAGE_ID: NAPP 9159 018
SOURCE_IMAGE_DATE: 1997 09 22
SOURCE_IMAGE_ID: NAPP 9159 020
SOURCE_IMAGE_DATE: 1997 09 22
SOURCE_DEM_DATE: 1978 00 00
AGENCY: WESTERN MAPPING CENTER (WMC)
PRODUCER: UNDEFINED
PRODUCTION_SYSTEM: GIS/MAGIC
COMPRESSION: UNDEFINED
STANDARD_VERSION: 1996 12
METADATA_DATE: 2000 06 15
DATA_FILE_SIZE: 42045354
BYTE_COUNT: 5499
