FILENAME: O4710928.NWS.1081090.tif
QUADRANGLE_NAME: ANDERSON BRIDGE
QUADRANT: NW
WEST_LONGITUDE: -109 37 30.00000
EAST_LONGITUDE: -109 33 45.00000
NORTH_LATITUDE: 47 37 30.00000
SOUTH_LATITUDE: 47 33 45.00000
PRODUCTION_DATE: 2000 6 5
RASTER_ORDER: LEFT_RIGHT/TOP_BOTTOM
BAND_ORGANIZATION: SINGLE FILE
BAND_CONTENT: BLACK&WHITE
BAND_CONTENT: UNDEFINED
BAND_CONTENT: UNDEFINED
BITS_PER_PIXEL: 8
SAMPLES_AND_LINES: 5483 7637
HORIZONTAL_DATUM: NAD83
HORIZONTAL_COORDINATE_SYSTEM: UTM
COORDINATE_ZONE: 12
HORIZONTAL_UNITS: METERS
HORIZONTAL_RESOLUTION: 1.00000
SECONDARY_HORIZONTAL_DATUM: NAD27
XY_ORIGIN: 602952.00000 5275923.00000
SECONDARY_XY_ORIGIN: 603011.01100 5275707.35500
NATION: US
NATION: "SCIENCE
STATE: MT
NW_QUAD_CORNER_XY: 603309.02700 5275537.75200
NE_QUAD_CORNER_XY: 608004.80400 5275622.91100
SE_QUAD_CORNERY_XY: 608133.50700 5268676.98500
SW_QUAD_CORNER_XY: 603432.13200 5268591.80900
SECONDARY_NW_QUAD_XY: 603312.25300 5275319.00400
SECONDARY_NE_QUAD_XY: 608008.17700 5275404.16600
SECONDARY_SE_QUAD_XY: 608136.87900 5268458.26000
SECONDARY_SW_QUAD_XY: 603435.35700 5268373.08100
RMSE_XY: 3.20000
IMAGE_SOURCE: BLACK AND WHITE FILM
SOURCE_IMAGE_ID: NAPP 9159 138
SOURCE_IMAGE_DATE: 1997 09 22
SOURCE_IMAGE_ID: NAPP 9159 231
SOURCE_IMAGE_DATE: 1997 09 22
SOURCE_IMAGE_ID: NAPP 9159 230
SOURCE_IMAGE_DATE: 1997 09 22
SOURCE_IMAGE_ID: NAPP 9159 229
SOURCE_IMAGE_DATE: 1997 09 22
SOURCE_IMAGE_ID: NAPP 9159 136
SOURCE_IMAGE_DATE: 1997 09 22
SOURCE_DEM_DATE: 1997 00 00
AGENCY: WESTERN MAPPING CENTER (WMC)
PRODUCER: UNDEFINED
PRODUCTION_SYSTEM: GIS/MAGIC
COMPRESSION: UNDEFINED
STANDARD_VERSION: 1996 12
METADATA_DATE: 2000 06 15
DATA_FILE_SIZE: 41879154
BYTE_COUNT: 5483
