FILENAME: O4710928.SES.1081091.tif
QUADRANGLE_NAME: ANDERSON BRIDGE
QUADRANT: SE
WEST_LONGITUDE: -109 33 45.00000
EAST_LONGITUDE: -109 30 0.00000
NORTH_LATITUDE: 47 33 45.00000
SOUTH_LATITUDE: 47 30 0.00000
PRODUCTION_DATE: 2000 6 6
RASTER_ORDER: LEFT_RIGHT/TOP_BOTTOM
BAND_ORGANIZATION: SINGLE FILE
BAND_CONTENT: BLACK&WHITE
BAND_CONTENT: UNDEFINED
BAND_CONTENT: UNDEFINED
BITS_PER_PIXEL: 8
SAMPLES_AND_LINES: 5495 7641
HORIZONTAL_DATUM: NAD83
HORIZONTAL_COORDINATE_SYSTEM: UTM
COORDINATE_ZONE: 12
HORIZONTAL_UNITS: METERS
HORIZONTAL_RESOLUTION: 1.00000
SECONDARY_HORIZONTAL_DATUM: NAD27
XY_ORIGIN: 607776.00000 5269066.00000
SECONDARY_XY_ORIGIN: 607835.11600 5268850.46200
NATION: US
NATION: "SCIENCE
STATE: MT
NW_QUAD_CORNER_XY: 608133.50700 5268676.98500
NE_QUAD_CORNER_XY: 612834.87100 5268765.94800
SE_QUAD_CORNERY_XY: 612969.03700 5261820.11000
SW_QUAD_CORNER_XY: 608262.08000 5261731.13000
SECONDARY_NW_QUAD_XY: 608136.87900 5268458.26000
SECONDARY_NE_QUAD_XY: 612838.39000 5268547.22600
SECONDARY_SE_QUAD_XY: 612972.55500 5261601.40900
SECONDARY_SW_QUAD_XY: 608265.45200 5261512.42600
RMSE_XY: 1.80000
IMAGE_SOURCE: BLACK AND WHITE FILM
SOURCE_IMAGE_ID: NAPP 9159 116
SOURCE_IMAGE_DATE: 1997 09 22
SOURCE_IMAGE_ID: NAPP 9159 136
SOURCE_IMAGE_DATE: 1997 09 22
SOURCE_IMAGE_ID: NAPP 9159 117
SOURCE_IMAGE_DATE: 1997 09 22
SOURCE_IMAGE_ID: NAPP 9159 115
SOURCE_IMAGE_DATE: 1997 09 22
SOURCE_DEM_DATE: 1997 00 00
AGENCY: WESTERN MAPPING CENTER (WMC)
PRODUCER: UNDEFINED
PRODUCTION_SYSTEM: GIS/MAGIC
COMPRESSION: UNDEFINED
STANDARD_VERSION: 1996 12
METADATA_DATE: 2000 06 15
DATA_FILE_SIZE: 41992790
BYTE_COUNT: 5495
