FILENAME: O4710928.SWS.1081092.tif
QUADRANGLE_NAME: ANDERSON BRIDGE
QUADRANT: SW
WEST_LONGITUDE: -109 37 30.00000
EAST_LONGITUDE: -109 33 45.00000
NORTH_LATITUDE: 47 33 45.00000
SOUTH_LATITUDE: 47 30 0.00000
PRODUCTION_DATE: 2000 6 5
RASTER_ORDER: LEFT_RIGHT/TOP_BOTTOM
BAND_ORGANIZATION: SINGLE FILE
BAND_CONTENT: BLACK&WHITE
BAND_CONTENT: UNDEFINED
BAND_CONTENT: UNDEFINED
BITS_PER_PIXEL: 8
SAMPLES_AND_LINES: 5489 7637
HORIZONTAL_DATUM: NAD83
HORIZONTAL_COORDINATE_SYSTEM: UTM
COORDINATE_ZONE: 12
HORIZONTAL_UNITS: METERS
HORIZONTAL_RESOLUTION: 1.00000
SECONDARY_HORIZONTAL_DATUM: NAD27
XY_ORIGIN: 603075.00000 5268977.00000
SECONDARY_XY_ORIGIN: 603134.07100 5268761.44700
NATION: US
NATION: "SCIENCE
STATE: MT
NW_QUAD_CORNER_XY: 603432.13200 5268591.80900
NE_QUAD_CORNER_XY: 608133.50700 5268676.98500
SE_QUAD_CORNERY_XY: 608262.08000 5261731.13000
SW_QUAD_CORNER_XY: 603555.11300 5261645.93700
SECONDARY_NW_QUAD_XY: 603435.35700 5268373.08100
SECONDARY_NE_QUAD_XY: 608136.87900 5268458.26000
SECONDARY_SE_QUAD_XY: 608265.45200 5261512.42600
SECONDARY_SW_QUAD_XY: 603558.33800 5261427.23100
RMSE_XY: 3.40000
IMAGE_SOURCE: BLACK AND WHITE FILM
SOURCE_IMAGE_ID: NAPP 9159 117
SOURCE_IMAGE_DATE: 1997 09 22
SOURCE_IMAGE_ID: NAPP 9159 233
SOURCE_IMAGE_DATE: 1997 09 22
SOURCE_IMAGE_ID: NAPP 9159 232
SOURCE_IMAGE_DATE: 1997 09 22
SOURCE_IMAGE_ID: NAPP 9159 231
SOURCE_IMAGE_DATE: 1997 09 22
SOURCE_IMAGE_ID: NAPP 9159 134
SOURCE_IMAGE_DATE: 1997 09 22
SOURCE_DEM_DATE: 1997 00 00
AGENCY: WESTERN MAPPING CENTER (WMC)
PRODUCER: UNDEFINED
PRODUCTION_SYSTEM: GIS/MAGIC
COMPRESSION: UNDEFINED
STANDARD_VERSION: 1996 12
METADATA_DATE: 2000 06 15
DATA_FILE_SIZE: 41924982
BYTE_COUNT: 5489
