FILENAME: O4710927.NWS.1081078.tif
QUADRANGLE_NAME: WOLF CREEK FALLS
QUADRANT: NW
WEST_LONGITUDE: -109 45 0.00000
EAST_LONGITUDE: -109 41 15.00000
NORTH_LATITUDE: 47 37 30.00000
SOUTH_LATITUDE: 47 33 45.00000
PRODUCTION_DATE: 2000 6 5
RASTER_ORDER: LEFT_RIGHT/TOP_BOTTOM
BAND_ORGANIZATION: SINGLE FILE
BAND_CONTENT: BLACK&WHITE
BAND_CONTENT: UNDEFINED
BAND_CONTENT: UNDEFINED
BITS_PER_PIXEL: 8
SAMPLES_AND_LINES: 5472 7630
HORIZONTAL_DATUM: NAD83
HORIZONTAL_COORDINATE_SYSTEM: UTM
COORDINATE_ZONE: 12
HORIZONTAL_UNITS: METERS
HORIZONTAL_RESOLUTION: 1.00000
SECONDARY_HORIZONTAL_DATUM: NAD27
XY_ORIGIN: 593560.00000 5275757.00000
SECONDARY_XY_ORIGIN: 593618.94500 5275541.32300
NATION: US
NATION: "SCIENCE
STATE: MT
NW_QUAD_CORNER_XY: 593917.43800 5275378.79100
NE_QUAD_CORNER_XY: 598613.23800 5275456.37900
SE_QUAD_CORNERY_XY: 598730.74500 5268510.42000
SW_QUAD_CORNER_XY: 594029.34900 5268432.81700
SECONDARY_NW_QUAD_XY: 593920.37100 5275160.03900
SECONDARY_NE_QUAD_XY: 598616.31700 5275237.62800
SECONDARY_SE_QUAD_XY: 598733.82400 5268291.69000
SECONDARY_SW_QUAD_XY: 594032.28100 5268214.08500
RMSE_XY: 2.40000
IMAGE_SOURCE: BLACK AND WHITE FILM
SOURCE_IMAGE_ID: NAPP 9160 105
SOURCE_IMAGE_DATE: 1997 09 23
SOURCE_IMAGE_ID: NAPP 9160 104
SOURCE_IMAGE_DATE: 1997 09 23
SOURCE_IMAGE_ID: NAPP 9159 231
SOURCE_IMAGE_DATE: 1997 09 22
SOURCE_DEM_DATE: 1987 00 00
AGENCY: WESTERN MAPPING CENTER (WMC)
PRODUCER: UNDEFINED
PRODUCTION_SYSTEM: GIS/MAGIC
COMPRESSION: UNDEFINED
STANDARD_VERSION: 1996 12
METADATA_DATE: 2000 06 15
DATA_FILE_SIZE: 41756832
BYTE_COUNT: 5472
