FILENAME: O4710926.SWS.1081068.tif
QUADRANGLE_NAME: SPRING COULEE
QUADRANT: SW
WEST_LONGITUDE: -109 52 30.00000
EAST_LONGITUDE: -109 48 45.00000
NORTH_LATITUDE: 47 33 45.00000
SOUTH_LATITUDE: 47 30 0.00000
PRODUCTION_DATE: 2000 6 1
RASTER_ORDER: LEFT_RIGHT/TOP_BOTTOM
BAND_ORGANIZATION: SINGLE FILE
BAND_CONTENT: BLACK&WHITE
BAND_CONTENT: UNDEFINED
BAND_CONTENT: UNDEFINED
BITS_PER_PIXEL: 8
SAMPLES_AND_LINES: 5467 7623
HORIZONTAL_DATUM: NAD83
HORIZONTAL_COORDINATE_SYSTEM: UTM
COORDINATE_ZONE: 12
HORIZONTAL_UNITS: METERS
HORIZONTAL_RESOLUTION: 1.00000
SECONDARY_HORIZONTAL_DATUM: NAD27
XY_ORIGIN: 584269.00000 5268660.00000
SECONDARY_XY_ORIGIN: 584327.93900 5268444.45600
NATION: US
NATION: "SCIENCE
STATE: MT
NW_QUAD_CORNER_XY: 584626.52600 5268288.97200
NE_QUAD_CORNER_XY: 589327.94200 5268359.00100
SE_QUAD_CORNERY_XY: 589434.14900 5261413.08600
SW_QUAD_CORNER_XY: 584727.14100 5261343.04300
SECONDARY_NW_QUAD_XY: 584629.16500 5268070.23500
SECONDARY_NE_QUAD_XY: 589330.72800 5268140.26700
SECONDARY_SE_QUAD_XY: 589436.93400 5261194.37200
SECONDARY_SW_QUAD_XY: 584729.78000 5261124.32700
RMSE_XY: 1.30000
IMAGE_SOURCE: BLACK AND WHITE FILM
SOURCE_IMAGE_ID: NAPP 9128 146
SOURCE_IMAGE_DATE: 1996 07 29
SOURCE_IMAGE_ID: NAPP 9159 268
SOURCE_IMAGE_DATE: 1997 09 22
SOURCE_IMAGE_ID: NAPP 9150 228
SOURCE_IMAGE_DATE: 1996 09 11
SOURCE_IMAGE_ID: NAPP 9150 227
SOURCE_IMAGE_DATE: 1996 09 11
SOURCE_IMAGE_ID: NAPP 9128 173
SOURCE_IMAGE_DATE: 1996 07 29
SOURCE_DEM_DATE: 1987 00 00
AGENCY: WESTERN MAPPING CENTER (WMC)
PRODUCER: UNDEFINED
PRODUCTION_SYSTEM: GIS/MAGIC
COMPRESSION: UNDEFINED
STANDARD_VERSION: 1996 12
METADATA_DATE: 2000 06 15
DATA_FILE_SIZE: 41680408
BYTE_COUNT: 5467
