FILENAME: O4710925.NES.1081045.tif
QUADRANGLE_NAME: STEELE LAKE COULEE
QUADRANT: NE
WEST_LONGITUDE: -109 56 15.00000
EAST_LONGITUDE: -109 52 30.00000
NORTH_LATITUDE: 47 37 30.00000
SOUTH_LATITUDE: 47 33 45.00000
PRODUCTION_DATE: 2000 6 1
RASTER_ORDER: LEFT_RIGHT/TOP_BOTTOM
BAND_ORGANIZATION: SINGLE FILE
BAND_CONTENT: BLACK&WHITE
BAND_CONTENT: UNDEFINED
BAND_CONTENT: UNDEFINED
BITS_PER_PIXEL: 8
SAMPLES_AND_LINES: 5456 7618
HORIZONTAL_DATUM: NAD83
HORIZONTAL_COORDINATE_SYSTEM: UTM
COORDINATE_ZONE: 12
HORIZONTAL_UNITS: METERS
HORIZONTAL_RESOLUTION: 1.00000
SECONDARY_HORIZONTAL_DATUM: NAD27
XY_ORIGIN: 579472.00000 5275535.00000
SECONDARY_XY_ORIGIN: 579530.84700 5275319.38400
NATION: US
NATION: "SCIENCE
STATE: MT
NW_QUAD_CORNER_XY: 579829.98100 5275168.74300
NE_QUAD_CORNER_XY: 584525.80900 5275234.97400
SE_QUAD_CORNERY_XY: 584626.52600 5268288.97200
SW_QUAD_CORNER_XY: 579925.10100 5268222.72800
SECONDARY_NW_QUAD_XY: 579832.47400 5274949.98400
SECONDARY_NE_QUAD_XY: 584528.44900 5275016.21700
SECONDARY_SE_QUAD_XY: 584629.16500 5268070.23500
SECONDARY_SW_QUAD_XY: 579927.59400 5268003.99000
RMSE_XY: 1.40000
IMAGE_SOURCE: BLACK AND WHITE FILM
SOURCE_IMAGE_ID: NAPP 9150 226
SOURCE_IMAGE_DATE: 1996 09 11
SOURCE_IMAGE_ID: NAPP 9150 227
SOURCE_IMAGE_DATE: 1996 09 11
SOURCE_IMAGE_ID: NAPP 9150 225
SOURCE_IMAGE_DATE: 1996 09 11
SOURCE_IMAGE_ID: NAPP 9128 175
SOURCE_IMAGE_DATE: 1996 07 29
SOURCE_IMAGE_ID: NAPP 9128 177
SOURCE_IMAGE_DATE: 1996 07 29
SOURCE_DEM_DATE: 1987 00 00
AGENCY: WESTERN MAPPING CENTER (WMC)
PRODUCER: UNDEFINED
PRODUCTION_SYSTEM: GIS/MAGIC
COMPRESSION: UNDEFINED
STANDARD_VERSION: 1996 12
METADATA_DATE: 2000 06 13
DATA_FILE_SIZE: 41569264
BYTE_COUNT: 5456
