FILENAME: O4710925.NWS.1081046.tif
QUADRANGLE_NAME: STEELE LAKE COULEE
QUADRANT: NW
WEST_LONGITUDE: -110 0 0.00000
EAST_LONGITUDE: -109 56 15.00000
NORTH_LATITUDE: 47 37 30.00000
SOUTH_LATITUDE: 47 33 45.00000
PRODUCTION_DATE: 2000 6 1
RASTER_ORDER: LEFT_RIGHT/TOP_BOTTOM
BAND_ORGANIZATION: SINGLE FILE
BAND_CONTENT: BLACK&WHITE
BAND_CONTENT: UNDEFINED
BAND_CONTENT: UNDEFINED
BITS_PER_PIXEL: 8
SAMPLES_AND_LINES: 5451 7614
HORIZONTAL_DATUM: NAD83
HORIZONTAL_COORDINATE_SYSTEM: UTM
COORDINATE_ZONE: 12
HORIZONTAL_UNITS: METERS
HORIZONTAL_RESOLUTION: 1.00000
SECONDARY_HORIZONTAL_DATUM: NAD27
XY_ORIGIN: 574776.00000 5275469.00000
SECONDARY_XY_ORIGIN: 574834.81200 5275253.40300
NATION: US
NATION: "SCIENCE
STATE: MT
NW_QUAD_CORNER_XY: 575134.14400 5275106.29800
NE_QUAD_CORNER_XY: 579829.98100 5275168.74300
SE_QUAD_CORNERY_XY: 579925.10100 5268222.72800
SW_QUAD_CORNER_XY: 575223.66800 5268160.27100
SECONDARY_NW_QUAD_XY: 575136.49000 5274887.53700
SECONDARY_NE_QUAD_XY: 579832.47400 5274949.98400
SECONDARY_SE_QUAD_XY: 579927.59400 5268003.99000
SECONDARY_SW_QUAD_XY: 575226.01400 5267941.53000
RMSE_XY: 1.30000
IMAGE_SOURCE: BLACK AND WHITE FILM
SOURCE_IMAGE_ID: NAPP 9160 017
SOURCE_IMAGE_DATE: 1997 09 23
SOURCE_IMAGE_ID: NAPP 9150 227
SOURCE_IMAGE_DATE: 1996 09 11
SOURCE_IMAGE_ID: NAPP 9150 226
SOURCE_IMAGE_DATE: 1996 09 11
SOURCE_DEM_DATE: 1987 00 00
AGENCY: WESTERN MAPPING CENTER (WMC)
PRODUCER: UNDEFINED
PRODUCTION_SYSTEM: GIS/MAGIC
COMPRESSION: UNDEFINED
STANDARD_VERSION: 1996 12
METADATA_DATE: 2000 06 13
DATA_FILE_SIZE: 41509365
BYTE_COUNT: 5451
