FILENAME: O4710925.SWS.1081048.tif
QUADRANGLE_NAME: STEELE LAKE COULEE
QUADRANT: SW
WEST_LONGITUDE: -110 0 0.00000
EAST_LONGITUDE: -109 56 15.00000
NORTH_LATITUDE: 47 33 45.00000
SOUTH_LATITUDE: 47 30 0.00000
PRODUCTION_DATE: 2000 6 1
RASTER_ORDER: LEFT_RIGHT/TOP_BOTTOM
BAND_ORGANIZATION: SINGLE FILE
BAND_CONTENT: BLACK&WHITE
BAND_CONTENT: UNDEFINED
BAND_CONTENT: UNDEFINED
BITS_PER_PIXEL: 8
SAMPLES_AND_LINES: 5456 7614
HORIZONTAL_DATUM: NAD83
HORIZONTAL_COORDINATE_SYSTEM: UTM
COORDINATE_ZONE: 12
HORIZONTAL_UNITS: METERS
HORIZONTAL_RESOLUTION: 1.00000
SECONDARY_HORIZONTAL_DATUM: NAD27
XY_ORIGIN: 574866.00000 5268523.00000
SECONDARY_XY_ORIGIN: 574924.88800 5268307.49300
NATION: US
NATION: "SCIENCE
STATE: MT
NW_QUAD_CORNER_XY: 575223.66800 5268160.27100
NE_QUAD_CORNER_XY: 579925.10100 5268222.72800
SE_QUAD_CORNERY_XY: 580020.12600 5261276.78700
SW_QUAD_CORNER_XY: 575313.10200 5261214.31800
SECONDARY_NW_QUAD_XY: 575226.01400 5267941.53000
SECONDARY_NE_QUAD_XY: 579927.59400 5268003.99000
SECONDARY_SE_QUAD_XY: 580022.61800 5261058.06900
SECONDARY_SW_QUAD_XY: 575315.44700 5260995.59800
RMSE_XY: 3.40000
IMAGE_SOURCE: BLACK AND WHITE FILM
SOURCE_IMAGE_ID: NAPP 9160 015
SOURCE_IMAGE_DATE: 1997 09 23
SOURCE_IMAGE_ID: NAPP 9160 014
SOURCE_IMAGE_DATE: 1997 09 23
SOURCE_IMAGE_ID: NAPP 9159 268
SOURCE_IMAGE_DATE: 1997 09 22
SOURCE_IMAGE_ID: NAPP 9150 228
SOURCE_IMAGE_DATE: 1996 09 11
SOURCE_IMAGE_ID: NAPP 9150 227
SOURCE_IMAGE_DATE: 1996 09 11
SOURCE_DEM_DATE: 1987 00 00
AGENCY: WESTERN MAPPING CENTER (WMC)
PRODUCER: UNDEFINED
PRODUCTION_SYSTEM: GIS/MAGIC
COMPRESSION: UNDEFINED
STANDARD_VERSION: 1996 12
METADATA_DATE: 2000 06 13
DATA_FILE_SIZE: 41547440
BYTE_COUNT: 5456
