FILENAME: O4710924.SES.1083358.tif
QUADRANGLE_NAME: REPPE BUTTE
QUADRANT: SE
WEST_LONGITUDE: -109 3 45.00000
EAST_LONGITUDE: -109 0 0.00000
NORTH_LATITUDE: 47 41 15.00000
SOUTH_LATITUDE: 47 37 30.00000
PRODUCTION_DATE: 2000 6 13
RASTER_ORDER: LEFT_RIGHT/TOP_BOTTOM
BAND_ORGANIZATION: SINGLE FILE
BAND_CONTENT: BLACK&WHITE
BAND_CONTENT: UNDEFINED
BAND_CONTENT: UNDEFINED
BITS_PER_PIXEL: 8
SAMPLES_AND_LINES: 5527 7671
HORIZONTAL_DATUM: NAD83
HORIZONTAL_COORDINATE_SYSTEM: UTM
COORDINATE_ZONE: 12
HORIZONTAL_UNITS: METERS
HORIZONTAL_RESOLUTION: 1.00000
SECONDARY_HORIZONTAL_DATUM: NAD27
XY_ORIGIN: 645041.00000 5283806.00000
SECONDARY_XY_ORIGIN: 645099.79600 5283590.37100
NATION: US
NATION: "SCIENCE
STATE: MT
NW_QUAD_CORNER_XY: 645396.89600 5283386.34200
NE_QUAD_CORNER_XY: 650086.94500 5283505.56100
SE_QUAD_CORNERY_XY: 650266.22000 5276559.75100
SW_QUAD_CORNER_XY: 645570.56600 5276440.50800
SECONDARY_NW_QUAD_XY: 645401.44300 5283167.60300
SECONDARY_NE_QUAD_XY: 650091.63800 5283286.82600
SECONDARY_SE_QUAD_XY: 650270.91300 5276341.03500
SECONDARY_SW_QUAD_XY: 645575.11100 5276221.78900
RMSE_XY: 1.70000
IMAGE_SOURCE: BLACK AND WHITE FILM
SOURCE_IMAGE_ID: NAPP 9147 209
SOURCE_IMAGE_DATE: 1996 08 24
SOURCE_IMAGE_ID: NAPP 9129 201
SOURCE_IMAGE_DATE: 1996 07 27
SOURCE_IMAGE_ID: NAPP 9129 039
SOURCE_IMAGE_DATE: 1996 07 27
SOURCE_IMAGE_ID: NAPP 9129 037
SOURCE_IMAGE_DATE: 1996 07 27
SOURCE_IMAGE_ID: NAPP 9147 211
SOURCE_IMAGE_DATE: 1996 08 24
SOURCE_DEM_DATE: 1988 00 00
AGENCY: WESTERN MAPPING CENTER (WMC)
PRODUCER: UNDEFINED
PRODUCTION_SYSTEM: GIS/MAGIC
COMPRESSION: UNDEFINED
STANDARD_VERSION: 1996 12
METADATA_DATE: 2000 06 15
DATA_FILE_SIZE: 42403144
BYTE_COUNT: 5527
