FILENAME: O4710924.SWS.1083360.tif
QUADRANGLE_NAME: REPPE BUTTE
QUADRANT: SW
WEST_LONGITUDE: -109 7 30.00000
EAST_LONGITUDE: -109 3 45.00000
NORTH_LATITUDE: 47 41 15.00000
SOUTH_LATITUDE: 47 37 30.00000
PRODUCTION_DATE: 2000 6 13
RASTER_ORDER: LEFT_RIGHT/TOP_BOTTOM
BAND_ORGANIZATION: SINGLE FILE
BAND_CONTENT: BLACK&WHITE
BAND_CONTENT: UNDEFINED
BAND_CONTENT: UNDEFINED
BITS_PER_PIXEL: 8
SAMPLES_AND_LINES: 5521 7668
HORIZONTAL_DATUM: NAD83
HORIZONTAL_COORDINATE_SYSTEM: UTM
COORDINATE_ZONE: 12
HORIZONTAL_UNITS: METERS
HORIZONTAL_RESOLUTION: 1.00000
SECONDARY_HORIZONTAL_DATUM: NAD27
XY_ORIGIN: 640351.00000 5283687.00000
SECONDARY_XY_ORIGIN: 640409.82500 5283471.38300
NATION: US
NATION: "SCIENCE
STATE: MT
NW_QUAD_CORNER_XY: 640706.83200 5283270.91000
NE_QUAD_CORNER_XY: 645396.89600 5283386.34200
SE_QUAD_CORNERY_XY: 645570.56600 5276440.50800
SW_QUAD_CORNER_XY: 640874.89500 5276325.05300
SECONDARY_NW_QUAD_XY: 640711.23100 5283052.16800
SECONDARY_NE_QUAD_XY: 645401.44300 5283167.60300
SECONDARY_SE_QUAD_XY: 645575.11100 5276221.78900
SECONDARY_SW_QUAD_XY: 640879.29400 5276106.33000
RMSE_XY: 2.40000
IMAGE_SOURCE: BLACK AND WHITE FILM
SOURCE_IMAGE_ID: NAPP 9129 200
SOURCE_IMAGE_DATE: 1996 07 27
SOURCE_IMAGE_ID: NAPP 9130 045
SOURCE_IMAGE_DATE: 1996 07 27
SOURCE_IMAGE_ID: NAPP 9129 199
SOURCE_IMAGE_DATE: 1996 07 27
SOURCE_IMAGE_ID: NAPP 9129 201
SOURCE_IMAGE_DATE: 1996 07 27
SOURCE_DEM_DATE: 1988 00 00
AGENCY: WESTERN MAPPING CENTER (WMC)
PRODUCER: UNDEFINED
PRODUCTION_SYSTEM: GIS/MAGIC
COMPRESSION: UNDEFINED
STANDARD_VERSION: 1996 12
METADATA_DATE: 2000 06 15
DATA_FILE_SIZE: 42340549
BYTE_COUNT: 5521
