FILENAME: O4710923.NES.1082424.tif
QUADRANGLE_NAME: WOODHAWK HILL
QUADRANT: NE
WEST_LONGITUDE: -109 11 15.00000
EAST_LONGITUDE: -109 7 30.00000
NORTH_LATITUDE: 47 45 0.00000
SOUTH_LATITUDE: 47 41 15.00000
PRODUCTION_DATE: 2000 6 12
RASTER_ORDER: LEFT_RIGHT/TOP_BOTTOM
BAND_ORGANIZATION: SINGLE FILE
BAND_CONTENT: BLACK&WHITE
BAND_CONTENT: UNDEFINED
BAND_CONTENT: UNDEFINED
BITS_PER_PIXEL: 8
SAMPLES_AND_LINES: 5510 7663
HORIZONTAL_DATUM: NAD83
HORIZONTAL_COORDINATE_SYSTEM: UTM
COORDINATE_ZONE: 12
HORIZONTAL_UNITS: METERS
HORIZONTAL_RESOLUTION: 1.00000
SECONDARY_HORIZONTAL_DATUM: NAD27
XY_ORIGIN: 635498.00000 5290517.00000
SECONDARY_XY_ORIGIN: 635556.81600 5290301.31400
NATION: US
NATION: "SCIENCE
STATE: MT
NW_QUAD_CORNER_XY: 635854.13000 5290105.21300
NE_QUAD_CORNER_XY: 640538.60000 5290216.83500
SE_QUAD_CORNERY_XY: 640706.83200 5283270.91000
SW_QUAD_CORNER_XY: 636016.75100 5283159.26500
SECONDARY_NW_QUAD_XY: 635858.38400 5289886.44800
SECONDARY_NE_QUAD_XY: 640543.00000 5289998.07400
SECONDARY_SE_QUAD_XY: 640711.23100 5283052.16800
SECONDARY_SW_QUAD_XY: 636021.00400 5282940.51900
RMSE_XY: 2.10000
IMAGE_SOURCE: BLACK AND WHITE FILM
SOURCE_IMAGE_ID: NAPP 9130 042
SOURCE_IMAGE_DATE: 1996 07 27
SOURCE_IMAGE_ID: NAPP 9145 022
SOURCE_IMAGE_DATE: 1996 08 25
SOURCE_IMAGE_ID: NAPP 9130 043
SOURCE_IMAGE_DATE: 1996 07 27
SOURCE_IMAGE_ID: NAPP 9130 041
SOURCE_IMAGE_DATE: 1996 07 27
SOURCE_DEM_DATE: 1987 00 00
AGENCY: WESTERN MAPPING CENTER (WMC)
PRODUCER: UNDEFINED
PRODUCTION_SYSTEM: GIS/MAGIC
COMPRESSION: UNDEFINED
STANDARD_VERSION: 1996 12
METADATA_DATE: 2000 06 15
DATA_FILE_SIZE: 42228640
BYTE_COUNT: 5510
