FILENAME: O4710923.NWS.1082425.tif
QUADRANGLE_NAME: WOODHAWK HILL
QUADRANT: NW
WEST_LONGITUDE: -109 15 0.00000
EAST_LONGITUDE: -109 11 15.00000
NORTH_LATITUDE: 47 45 0.00000
SOUTH_LATITUDE: 47 41 15.00000
PRODUCTION_DATE: 2000 6 12
RASTER_ORDER: LEFT_RIGHT/TOP_BOTTOM
BAND_ORGANIZATION: SINGLE FILE
BAND_CONTENT: BLACK&WHITE
BAND_CONTENT: UNDEFINED
BAND_CONTENT: UNDEFINED
BITS_PER_PIXEL: 8
SAMPLES_AND_LINES: 5505 7660
HORIZONTAL_DATUM: NAD83
HORIZONTAL_COORDINATE_SYSTEM: UTM
COORDINATE_ZONE: 12
HORIZONTAL_UNITS: METERS
HORIZONTAL_RESOLUTION: 1.00000
SECONDARY_HORIZONTAL_DATUM: NAD27
XY_ORIGIN: 630813.00000 5290406.00000
SECONDARY_XY_ORIGIN: 630871.82800 5290190.33200
NATION: US
NATION: "SCIENCE
STATE: MT
NW_QUAD_CORNER_XY: 631169.64600 5289997.37700
NE_QUAD_CORNER_XY: 635854.13000 5290105.21300
SE_QUAD_CORNERY_XY: 636016.75100 5283159.26500
SW_QUAD_CORNER_XY: 631326.65600 5283051.40700
SECONDARY_NW_QUAD_XY: 631173.75200 5289778.60900
SECONDARY_NE_QUAD_XY: 635858.38400 5289886.44800
SECONDARY_SE_QUAD_XY: 636021.00400 5282940.51900
SECONDARY_SW_QUAD_XY: 631330.76200 5282832.65700
RMSE_XY: 1.10000
IMAGE_SOURCE: BLACK AND WHITE FILM
SOURCE_IMAGE_ID: NAPP 9130 042
SOURCE_IMAGE_DATE: 1996 07 27
SOURCE_IMAGE_ID: NAPP 9156 036
SOURCE_IMAGE_DATE: 1997 08 29
SOURCE_IMAGE_ID: NAPP 9156 035
SOURCE_IMAGE_DATE: 1997 08 29
SOURCE_IMAGE_ID: NAPP 9145 021
SOURCE_IMAGE_DATE: 1996 08 25
SOURCE_IMAGE_ID: NAPP 9145 023
SOURCE_IMAGE_DATE: 1996 08 25
SOURCE_DEM_DATE: 1987 00 00
AGENCY: WESTERN MAPPING CENTER (WMC)
PRODUCER: UNDEFINED
PRODUCTION_SYSTEM: GIS/MAGIC
COMPRESSION: UNDEFINED
STANDARD_VERSION: 1996 12
METADATA_DATE: 2000 06 15
DATA_FILE_SIZE: 42173805
BYTE_COUNT: 5505
