FILENAME: O4710923.SWS.1082427.tif
QUADRANGLE_NAME: WOODHAWK HILL
QUADRANT: SW
WEST_LONGITUDE: -109 15 0.00000
EAST_LONGITUDE: -109 11 15.00000
NORTH_LATITUDE: 47 41 15.00000
SOUTH_LATITUDE: 47 37 30.00000
PRODUCTION_DATE: 2000 6 12
RASTER_ORDER: LEFT_RIGHT/TOP_BOTTOM
BAND_ORGANIZATION: SINGLE FILE
BAND_CONTENT: BLACK&WHITE
BAND_CONTENT: UNDEFINED
BAND_CONTENT: UNDEFINED
BITS_PER_PIXEL: 8
SAMPLES_AND_LINES: 5511 7660
HORIZONTAL_DATUM: NAD83
HORIZONTAL_COORDINATE_SYSTEM: UTM
COORDINATE_ZONE: 12
HORIZONTAL_UNITS: METERS
HORIZONTAL_RESOLUTION: 1.00000
SECONDARY_HORIZONTAL_DATUM: NAD27
XY_ORIGIN: 630970.00000 5283460.00000
SECONDARY_XY_ORIGIN: 631028.88600 5283244.40700
NATION: US
NATION: "SCIENCE
STATE: MT
NW_QUAD_CORNER_XY: 631326.65600 5283051.40700
NE_QUAD_CORNER_XY: 636016.75100 5283159.26500
SE_QUAD_CORNERY_XY: 636179.20900 5276213.38600
SW_QUAD_CORNER_XY: 631483.50900 5276105.50600
SECONDARY_NW_QUAD_XY: 631330.76200 5282832.65700
SECONDARY_NE_QUAD_XY: 636021.00400 5282940.51900
SECONDARY_SE_QUAD_XY: 636183.46200 5275994.65900
SECONDARY_SW_QUAD_XY: 631487.61500 5275886.77600
RMSE_XY: 2.00000
IMAGE_SOURCE: BLACK AND WHITE FILM
SOURCE_IMAGE_ID: NAPP 9145 020
SOURCE_IMAGE_DATE: 1996 08 25
SOURCE_IMAGE_ID: NAPP 9156 018
SOURCE_IMAGE_DATE: 1997 08 29
SOURCE_IMAGE_ID: NAPP 9145 021
SOURCE_IMAGE_DATE: 1996 08 25
SOURCE_IMAGE_ID: NAPP 9130 044
SOURCE_IMAGE_DATE: 1996 07 27
SOURCE_DEM_DATE: 1987 00 00
AGENCY: WESTERN MAPPING CENTER (WMC)
PRODUCER: UNDEFINED
PRODUCTION_SYSTEM: GIS/MAGIC
COMPRESSION: UNDEFINED
STANDARD_VERSION: 1996 12
METADATA_DATE: 2000 06 15
DATA_FILE_SIZE: 42219771
BYTE_COUNT: 5511
