FILENAME: O4710922.NES.1081182.tif
QUADRANGLE_NAME: TAFFY RIDGE
QUADRANT: NE
WEST_LONGITUDE: -109 18 45.00000
EAST_LONGITUDE: -109 15 0.00000
NORTH_LATITUDE: 47 45 0.00000
SOUTH_LATITUDE: 47 41 15.00000
PRODUCTION_DATE: 2000 6 15
RASTER_ORDER: LEFT_RIGHT/TOP_BOTTOM
BAND_ORGANIZATION: SINGLE FILE
BAND_CONTENT: BLACK&WHITE
BAND_CONTENT: UNDEFINED
BAND_CONTENT: UNDEFINED
BITS_PER_PIXEL: 8
SAMPLES_AND_LINES: 5499 7656
HORIZONTAL_DATUM: NAD83
HORIZONTAL_COORDINATE_SYSTEM: UTM
COORDINATE_ZONE: 12
HORIZONTAL_UNITS: METERS
HORIZONTAL_RESOLUTION: 1.00000
SECONDARY_HORIZONTAL_DATUM: NAD27
XY_ORIGIN: 626129.00000 5290298.00000
SECONDARY_XY_ORIGIN: 626187.85000 5290082.30100
NATION: US
NATION: "SCIENCE
STATE: MT
NW_QUAD_CORNER_XY: 626485.14600 5289893.32600
NE_QUAD_CORNER_XY: 631169.64600 5289997.37700
SE_QUAD_CORNERY_XY: 631326.65600 5283051.40700
SW_QUAD_CORNER_XY: 626636.54600 5282947.33500
SECONDARY_NW_QUAD_XY: 626489.10600 5289674.55500
SECONDARY_NE_QUAD_XY: 631173.75200 5289778.60900
SECONDARY_SE_QUAD_XY: 631330.76200 5282832.65700
SECONDARY_SW_QUAD_XY: 626640.50600 5282728.58200
RMSE_XY: 2.30000
IMAGE_SOURCE: BLACK AND WHITE FILM
SOURCE_IMAGE_ID: NAPP 9156 036
SOURCE_IMAGE_DATE: 1997 08 29
SOURCE_IMAGE_ID: NAPP 9156 068
SOURCE_IMAGE_DATE: 1997 08 29
SOURCE_IMAGE_ID: NAPP 9156 037
SOURCE_IMAGE_DATE: 1997 08 29
SOURCE_IMAGE_ID: NAPP 9156 035
SOURCE_IMAGE_DATE: 1997 08 29
SOURCE_IMAGE_ID: NAPP 9156 034
SOURCE_IMAGE_DATE: 1997 08 29
SOURCE_DEM_DATE: 1987 00 00
AGENCY: WESTERN MAPPING CENTER (WMC)
PRODUCER: UNDEFINED
PRODUCTION_SYSTEM: GIS/MAGIC
COMPRESSION: UNDEFINED
STANDARD_VERSION: 1996 12
METADATA_DATE: 2000 06 15
DATA_FILE_SIZE: 42105843
BYTE_COUNT: 5499
