FILENAME: O4710922.NWS.1081183.tif
QUADRANGLE_NAME: TAFFY RIDGE
QUADRANT: NW
WEST_LONGITUDE: -109 22 30.00000
EAST_LONGITUDE: -109 18 45.00000
NORTH_LATITUDE: 47 45 0.00000
SOUTH_LATITUDE: 47 41 15.00000
PRODUCTION_DATE: 2000 6 8
RASTER_ORDER: LEFT_RIGHT/TOP_BOTTOM
BAND_ORGANIZATION: SINGLE FILE
BAND_CONTENT: BLACK&WHITE
BAND_CONTENT: UNDEFINED
BAND_CONTENT: UNDEFINED
BITS_PER_PIXEL: 8
SAMPLES_AND_LINES: 5494 7653
HORIZONTAL_DATUM: NAD83
HORIZONTAL_COORDINATE_SYSTEM: UTM
COORDINATE_ZONE: 12
HORIZONTAL_UNITS: METERS
HORIZONTAL_RESOLUTION: 1.00000
SECONDARY_HORIZONTAL_DATUM: NAD27
XY_ORIGIN: 621444.00000 5290194.00000
SECONDARY_XY_ORIGIN: 621502.87400 5289978.27000
NATION: US
NATION: "SCIENCE
STATE: MT
NW_QUAD_CORNER_XY: 621800.63200 5289793.06200
NE_QUAD_CORNER_XY: 626485.14600 5289893.32600
SE_QUAD_CORNERY_XY: 626636.54600 5282947.33500
SW_QUAD_CORNER_XY: 621946.42200 5282847.05000
SECONDARY_NW_QUAD_XY: 621804.44600 5289574.28700
SECONDARY_NE_QUAD_XY: 626489.10600 5289674.55500
SECONDARY_SE_QUAD_XY: 626640.50600 5282728.58200
SECONDARY_SW_QUAD_XY: 621950.23500 5282628.29400
RMSE_XY: 3.10000
IMAGE_SOURCE: BLACK AND WHITE FILM
SOURCE_IMAGE_ID: NAPP 9156 035
SOURCE_IMAGE_DATE: 1997 08 29
SOURCE_IMAGE_ID: NAPP 9163 014
SOURCE_IMAGE_DATE: 1998 07 23
SOURCE_IMAGE_ID: NAPP 9163 015
SOURCE_IMAGE_DATE: 1998 07 23
SOURCE_IMAGE_ID: NAPP 9163 016
SOURCE_IMAGE_DATE: 1998 07 23
SOURCE_IMAGE_ID: NAPP 9156 066
SOURCE_IMAGE_DATE: 1997 08 29
SOURCE_DEM_DATE: 1987 00 00
AGENCY: WESTERN MAPPING CENTER (WMC)
PRODUCER: UNDEFINED
PRODUCTION_SYSTEM: GIS/MAGIC
COMPRESSION: UNDEFINED
STANDARD_VERSION: 1996 12
METADATA_DATE: 2000 06 15
DATA_FILE_SIZE: 42051076
BYTE_COUNT: 5494
