FILENAME: O4710921.NES.1081157.tif
QUADRANGLE_NAME: GALLATIN RAPIDS
QUADRANT: NE
WEST_LONGITUDE: -109 26 15.00000
EAST_LONGITUDE: -109 22 30.00000
NORTH_LATITUDE: 47 45 0.00000
SOUTH_LATITUDE: 47 41 15.00000
PRODUCTION_DATE: 2000 6 8
RASTER_ORDER: LEFT_RIGHT/TOP_BOTTOM
BAND_ORGANIZATION: SINGLE FILE
BAND_CONTENT: BLACK&WHITE
BAND_CONTENT: UNDEFINED
BAND_CONTENT: UNDEFINED
BITS_PER_PIXEL: 8
SAMPLES_AND_LINES: 5489 7649
HORIZONTAL_DATUM: NAD83
HORIZONTAL_COORDINATE_SYSTEM: UTM
COORDINATE_ZONE: 12
HORIZONTAL_UNITS: METERS
HORIZONTAL_RESOLUTION: 1.00000
SECONDARY_HORIZONTAL_DATUM: NAD27
XY_ORIGIN: 616759.00000 5290094.00000
SECONDARY_XY_ORIGIN: 616817.89700 5289878.23900
NATION: US
NATION: "SCIENCE
STATE: MT
NW_QUAD_CORNER_XY: 617116.10500 5289696.58200
NE_QUAD_CORNER_XY: 621800.63200 5289793.06200
SE_QUAD_CORNERY_XY: 621946.42200 5282847.05000
SW_QUAD_CORNER_XY: 617256.28500 5282750.55000
SECONDARY_NW_QUAD_XY: 617119.77200 5289477.80400
SECONDARY_NE_QUAD_XY: 621804.44600 5289574.28700
SECONDARY_SE_QUAD_XY: 621950.23500 5282628.29400
SECONDARY_SW_QUAD_XY: 617259.95100 5282531.79100
RMSE_XY: 3.20000
IMAGE_SOURCE: BLACK AND WHITE FILM
SOURCE_IMAGE_ID: NAPP 9156 068
SOURCE_IMAGE_DATE: 1997 08 29
SOURCE_IMAGE_ID: NAPP 9159 025
SOURCE_IMAGE_DATE: 1997 09 22
SOURCE_IMAGE_ID: NAPP 9163 014
SOURCE_IMAGE_DATE: 1998 07 23
SOURCE_IMAGE_ID: NAPP 9163 016
SOURCE_IMAGE_DATE: 1998 07 23
SOURCE_IMAGE_ID: NAPP 9156 067
SOURCE_IMAGE_DATE: 1997 08 29
SOURCE_DEM_DATE: 1952 00 00
AGENCY: WESTERN MAPPING CENTER (WMC)
PRODUCER: UNDEFINED
PRODUCTION_SYSTEM: GIS/MAGIC
COMPRESSION: UNDEFINED
STANDARD_VERSION: 1996 12
METADATA_DATE: 2000 06 15
DATA_FILE_SIZE: 41990850
BYTE_COUNT: 5489
