FILENAME: O4710921.NWS.1081159.tif
QUADRANGLE_NAME: GALLATIN RAPIDS
QUADRANT: NW
WEST_LONGITUDE: -109 30 0.00000
EAST_LONGITUDE: -109 26 15.00000
NORTH_LATITUDE: 47 45 0.00000
SOUTH_LATITUDE: 47 41 15.00000
PRODUCTION_DATE: 2000 6 6
RASTER_ORDER: LEFT_RIGHT/TOP_BOTTOM
BAND_ORGANIZATION: SINGLE FILE
BAND_CONTENT: BLACK&WHITE
BAND_CONTENT: UNDEFINED
BAND_CONTENT: UNDEFINED
BITS_PER_PIXEL: 8
SAMPLES_AND_LINES: 5483 7645
HORIZONTAL_DATUM: NAD83
HORIZONTAL_COORDINATE_SYSTEM: UTM
COORDINATE_ZONE: 12
HORIZONTAL_UNITS: METERS
HORIZONTAL_RESOLUTION: 1.00000
SECONDARY_HORIZONTAL_DATUM: NAD27
XY_ORIGIN: 612075.00000 5289997.00000
SECONDARY_XY_ORIGIN: 612133.92100 5289781.20800
NATION: US
NATION: "SCIENCE
STATE: MT
NW_QUAD_CORNER_XY: 612431.56400 5289603.88700
NE_QUAD_CORNER_XY: 617116.10500 5289696.58200
SE_QUAD_CORNERY_XY: 617256.28500 5282750.55000
SW_QUAD_CORNER_XY: 612566.13500 5282657.83700
SECONDARY_NW_QUAD_XY: 612435.08400 5289385.10700
SECONDARY_NE_QUAD_XY: 617119.77200 5289477.80400
SECONDARY_SE_QUAD_XY: 617259.95100 5282531.79100
SECONDARY_SW_QUAD_XY: 612569.65400 5282439.07500
RMSE_XY: 2.10000
IMAGE_SOURCE: BLACK AND WHITE FILM
SOURCE_IMAGE_ID: NAPP 9163 016
SOURCE_IMAGE_DATE: 1998 07 23
SOURCE_IMAGE_ID: NAPP 9159 111
SOURCE_IMAGE_DATE: 1997 09 22
SOURCE_IMAGE_ID: NAPP 9159 110
SOURCE_IMAGE_DATE: 1997 09 22
SOURCE_IMAGE_ID: NAPP 9159 109
SOURCE_IMAGE_DATE: 1997 09 22
SOURCE_IMAGE_ID: NAPP 9159 024
SOURCE_IMAGE_DATE: 1997 09 22
SOURCE_DEM_DATE: 1952 00 00
AGENCY: WESTERN MAPPING CENTER (WMC)
PRODUCER: UNDEFINED
PRODUCTION_SYSTEM: GIS/MAGIC
COMPRESSION: UNDEFINED
STANDARD_VERSION: 1996 12
METADATA_DATE: 2000 06 15
DATA_FILE_SIZE: 41923018
BYTE_COUNT: 5483
