FILENAME: O4710921.SES.1081160.tif
QUADRANGLE_NAME: GALLATIN RAPIDS
QUADRANT: SE
WEST_LONGITUDE: -109 26 15.00000
EAST_LONGITUDE: -109 22 30.00000
NORTH_LATITUDE: 47 41 15.00000
SOUTH_LATITUDE: 47 37 30.00000
PRODUCTION_DATE: 2000 6 8
RASTER_ORDER: LEFT_RIGHT/TOP_BOTTOM
BAND_ORGANIZATION: SINGLE FILE
BAND_CONTENT: BLACK&WHITE
BAND_CONTENT: UNDEFINED
BAND_CONTENT: UNDEFINED
BITS_PER_PIXEL: 8
SAMPLES_AND_LINES: 5495 7649
HORIZONTAL_DATUM: NAD83
HORIZONTAL_COORDINATE_SYSTEM: UTM
COORDINATE_ZONE: 12
HORIZONTAL_UNITS: METERS
HORIZONTAL_RESOLUTION: 1.00000
SECONDARY_HORIZONTAL_DATUM: NAD27
XY_ORIGIN: 616899.00000 5283148.00000
SECONDARY_XY_ORIGIN: 616957.97400 5282932.32500
NATION: US
NATION: "SCIENCE
STATE: MT
NW_QUAD_CORNER_XY: 617256.28500 5282750.55000
NE_QUAD_CORNER_XY: 621946.42200 5282847.05000
SE_QUAD_CORNERY_XY: 622092.06600 5275901.10800
SW_QUAD_CORNER_XY: 617396.32500 5275804.58900
SECONDARY_NW_QUAD_XY: 617259.95100 5282531.79100
SECONDARY_NE_QUAD_XY: 621950.23500 5282628.29400
SECONDARY_SE_QUAD_XY: 622095.87900 5275682.37100
SECONDARY_SW_QUAD_XY: 617399.99100 5275585.84900
RMSE_XY: 2.90000
IMAGE_SOURCE: BLACK AND WHITE FILM
SOURCE_IMAGE_ID: NAPP 9163 013
SOURCE_IMAGE_DATE: 1998 07 23
SOURCE_IMAGE_ID: NAPP 9159 023
SOURCE_IMAGE_DATE: 1997 09 22
SOURCE_IMAGE_ID: NAPP 9163 012
SOURCE_IMAGE_DATE: 1998 07 23
SOURCE_IMAGE_ID: NAPP 9163 014
SOURCE_IMAGE_DATE: 1998 07 23
SOURCE_IMAGE_ID: NAPP 9156 065
SOURCE_IMAGE_DATE: 1997 08 29
SOURCE_DEM_DATE: 1952 00 00
AGENCY: WESTERN MAPPING CENTER (WMC)
PRODUCER: UNDEFINED
PRODUCTION_SYSTEM: GIS/MAGIC
COMPRESSION: UNDEFINED
STANDARD_VERSION: 1996 12
METADATA_DATE: 2000 06 15
DATA_FILE_SIZE: 42036750
BYTE_COUNT: 5495
