FILENAME: O4710920.NWS.1081098.tif
QUADRANGLE_NAME: COUNCIL ISLAND
QUADRANT: NW
WEST_LONGITUDE: -109 37 30.00000
EAST_LONGITUDE: -109 33 45.00000
NORTH_LATITUDE: 47 45 0.00000
SOUTH_LATITUDE: 47 41 15.00000
PRODUCTION_DATE: 2000 6 5
RASTER_ORDER: LEFT_RIGHT/TOP_BOTTOM
BAND_ORGANIZATION: SINGLE FILE
BAND_CONTENT: BLACK&WHITE
BAND_CONTENT: UNDEFINED
BAND_CONTENT: UNDEFINED
BITS_PER_PIXEL: 8
SAMPLES_AND_LINES: 5472 7637
HORIZONTAL_DATUM: NAD83
HORIZONTAL_COORDINATE_SYSTEM: UTM
COORDINATE_ZONE: 12
HORIZONTAL_UNITS: METERS
HORIZONTAL_RESOLUTION: 1.00000
SECONDARY_HORIZONTAL_DATUM: NAD27
XY_ORIGIN: 602705.00000 5289815.00000
SECONDARY_XY_ORIGIN: 602763.89100 5289599.17200
NATION: US
NATION: "SCIENCE
STATE: MT
NW_QUAD_CORNER_XY: 603062.44500 5289429.85300
NE_QUAD_CORNER_XY: 607747.01100 5289514.97800
SE_QUAD_CORNERY_XY: 607875.97200 5282568.90900
SW_QUAD_CORNER_XY: 603185.79800 5282483.76600
SECONDARY_NW_QUAD_XY: 603065.67200 5289211.06700
SECONDARY_NE_QUAD_XY: 607750.38400 5289296.19500
SECONDARY_SE_QUAD_XY: 607879.34500 5282350.14400
SECONDARY_SW_QUAD_XY: 603189.02400 5282264.99900
RMSE_XY: 2.00000
IMAGE_SOURCE: BLACK AND WHITE FILM
SOURCE_IMAGE_ID: NAPP 9159 141
SOURCE_IMAGE_DATE: 1997 09 22
SOURCE_IMAGE_ID: NAPP 9159 227
SOURCE_IMAGE_DATE: 1997 09 22
SOURCE_IMAGE_ID: NAPP 9159 140
SOURCE_IMAGE_DATE: 1997 09 22
SOURCE_IMAGE_ID: NAPP 9159 142
SOURCE_IMAGE_DATE: 1997 09 22
SOURCE_DEM_DATE: 1987 00 00
AGENCY: WESTERN MAPPING CENTER (WMC)
PRODUCER: UNDEFINED
PRODUCTION_SYSTEM: GIS/MAGIC
COMPRESSION: UNDEFINED
STANDARD_VERSION: 1996 12
METADATA_DATE: 2000 06 15
DATA_FILE_SIZE: 41795136
BYTE_COUNT: 5472
