FILENAME: O4710919.NES.1081085.tif
QUADRANGLE_NAME: P N RANCH
QUADRANT: NE
WEST_LONGITUDE: -109 41 15.00000
EAST_LONGITUDE: -109 37 30.00000
NORTH_LATITUDE: 47 45 0.00000
SOUTH_LATITUDE: 47 41 15.00000
PRODUCTION_DATE: 2000 6 5
RASTER_ORDER: LEFT_RIGHT/TOP_BOTTOM
BAND_ORGANIZATION: SINGLE FILE
BAND_CONTENT: BLACK&WHITE
BAND_CONTENT: UNDEFINED
BAND_CONTENT: UNDEFINED
BITS_PER_PIXEL: 8
SAMPLES_AND_LINES: 5466 7633
HORIZONTAL_DATUM: NAD83
HORIZONTAL_COORDINATE_SYSTEM: UTM
COORDINATE_ZONE: 12
HORIZONTAL_UNITS: METERS
HORIZONTAL_RESOLUTION: 1.00000
SECONDARY_HORIZONTAL_DATUM: NAD27
XY_ORIGIN: 598021.00000 5289730.00000
SECONDARY_XY_ORIGIN: 598079.88000 5289514.15300
NATION: US
NATION: "SCIENCE
STATE: MT
NW_QUAD_CORNER_XY: 598377.86800 5289348.51300
NE_QUAD_CORNER_XY: 603062.44500 5289429.85300
SE_QUAD_CORNERY_XY: 603185.79800 5282483.76600
SW_QUAD_CORNER_XY: 598495.61200 5282402.41000
SECONDARY_NW_QUAD_XY: 598380.94800 5289129.72400
SECONDARY_NE_QUAD_XY: 603065.67200 5289211.06700
SECONDARY_SE_QUAD_XY: 603189.02400 5282264.99900
SECONDARY_SW_QUAD_XY: 598498.69200 5282183.64000
RMSE_XY: 2.20000
IMAGE_SOURCE: BLACK AND WHITE FILM
SOURCE_IMAGE_ID: NAPP 9159 226
SOURCE_IMAGE_DATE: 1997 09 22
SOURCE_IMAGE_ID: NAPP 9160 100
SOURCE_IMAGE_DATE: 1997 09 23
SOURCE_IMAGE_ID: NAPP 9159 227
SOURCE_IMAGE_DATE: 1997 09 22
SOURCE_DEM_DATE: 1987 00 00
AGENCY: WESTERN MAPPING CENTER (WMC)
PRODUCER: UNDEFINED
PRODUCTION_SYSTEM: GIS/MAGIC
COMPRESSION: UNDEFINED
STANDARD_VERSION: 1996 12
METADATA_DATE: 2000 06 15
DATA_FILE_SIZE: 41727444
BYTE_COUNT: 5466
