FILENAME: O4710919.NWS.1081086.tif
QUADRANGLE_NAME: P N RANCH
QUADRANT: NW
WEST_LONGITUDE: -109 45 0.00000
EAST_LONGITUDE: -109 41 15.00000
NORTH_LATITUDE: 47 45 0.00000
SOUTH_LATITUDE: 47 41 15.00000
PRODUCTION_DATE: 2000 6 5
RASTER_ORDER: LEFT_RIGHT/TOP_BOTTOM
BAND_ORGANIZATION: SINGLE FILE
BAND_CONTENT: BLACK&WHITE
BAND_CONTENT: UNDEFINED
BAND_CONTENT: UNDEFINED
BITS_PER_PIXEL: 8
SAMPLES_AND_LINES: 5461 7630
HORIZONTAL_DATUM: NAD83
HORIZONTAL_COORDINATE_SYSTEM: UTM
COORDINATE_ZONE: 12
HORIZONTAL_UNITS: METERS
HORIZONTAL_RESOLUTION: 1.00000
SECONDARY_HORIZONTAL_DATUM: NAD27
XY_ORIGIN: 593336.00000 5289649.00000
SECONDARY_XY_ORIGIN: 593394.86800 5289433.13500
NATION: US
NATION: "SCIENCE
STATE: MT
NW_QUAD_CORNER_XY: 593693.28000 5289270.95700
NE_QUAD_CORNER_XY: 598377.86800 5289348.51300
SE_QUAD_CORNERY_XY: 598495.61200 5282402.41000
SW_QUAD_CORNER_XY: 593805.41500 5282324.83800
SECONDARY_NW_QUAD_XY: 593696.21300 5289052.16600
SECONDARY_NE_QUAD_XY: 598380.94800 5289129.72400
SECONDARY_SE_QUAD_XY: 598498.69200 5282183.64000
SECONDARY_SW_QUAD_XY: 593808.34800 5282106.06600
RMSE_XY: 2.10000
IMAGE_SOURCE: BLACK AND WHITE FILM
SOURCE_IMAGE_ID: NAPP 9160 101
SOURCE_IMAGE_DATE: 1997 09 23
SOURCE_IMAGE_ID: NAPP 9128 142
SOURCE_IMAGE_DATE: 1996 07 29
SOURCE_IMAGE_ID: NAPP 9128 141
SOURCE_IMAGE_DATE: 1996 07 29
SOURCE_IMAGE_ID: NAPP 9128 140
SOURCE_IMAGE_DATE: 1996 07 29
SOURCE_IMAGE_ID: NAPP 9160 100
SOURCE_IMAGE_DATE: 1997 09 23
SOURCE_DEM_DATE: 1987 00 00
AGENCY: WESTERN MAPPING CENTER (WMC)
PRODUCER: UNDEFINED
PRODUCTION_SYSTEM: GIS/MAGIC
COMPRESSION: UNDEFINED
STANDARD_VERSION: 1996 12
METADATA_DATE: 2000 06 15
DATA_FILE_SIZE: 41672891
BYTE_COUNT: 5461
