FILENAME: O4710919.SES.1081087.tif
QUADRANGLE_NAME: P N RANCH
QUADRANT: SE
WEST_LONGITUDE: -109 41 15.00000
EAST_LONGITUDE: -109 37 30.00000
NORTH_LATITUDE: 47 41 15.00000
SOUTH_LATITUDE: 47 37 30.00000
PRODUCTION_DATE: 2000 6 5
RASTER_ORDER: LEFT_RIGHT/TOP_BOTTOM
BAND_ORGANIZATION: SINGLE FILE
BAND_CONTENT: BLACK&WHITE
BAND_CONTENT: UNDEFINED
BAND_CONTENT: UNDEFINED
BITS_PER_PIXEL: 8
SAMPLES_AND_LINES: 5473 7633
HORIZONTAL_DATUM: NAD83
HORIZONTAL_COORDINATE_SYSTEM: UTM
COORDINATE_ZONE: 12
HORIZONTAL_UNITS: METERS
HORIZONTAL_RESOLUTION: 1.00000
SECONDARY_HORIZONTAL_DATUM: NAD27
XY_ORIGIN: 598138.00000 5282784.00000
SECONDARY_XY_ORIGIN: 598196.92900 5282568.24600
NATION: US
NATION: "SCIENCE
STATE: MT
NW_QUAD_CORNER_XY: 598495.61200 5282402.41000
NE_QUAD_CORNER_XY: 603185.79800 5282483.76600
SE_QUAD_CORNERY_XY: 603309.02700 5275537.75200
SW_QUAD_CORNER_XY: 598613.23800 5275456.37900
SECONDARY_NW_QUAD_XY: 598498.69200 5282183.64000
SECONDARY_NE_QUAD_XY: 603189.02400 5282264.99900
SECONDARY_SE_QUAD_XY: 603312.25300 5275319.00400
SECONDARY_SW_QUAD_XY: 598616.31700 5275237.62800
RMSE_XY: 2.80000
IMAGE_SOURCE: BLACK AND WHITE FILM
SOURCE_IMAGE_ID: NAPP 9159 228
SOURCE_IMAGE_DATE: 1997 09 22
SOURCE_IMAGE_ID: NAPP 9160 104
SOURCE_IMAGE_DATE: 1997 09 23
SOURCE_IMAGE_ID: NAPP 9159 229
SOURCE_IMAGE_DATE: 1997 09 22
SOURCE_IMAGE_ID: NAPP 9159 227
SOURCE_IMAGE_DATE: 1997 09 22
SOURCE_IMAGE_ID: NAPP 9159 140
SOURCE_IMAGE_DATE: 1997 09 22
SOURCE_DEM_DATE: 1987 00 00
AGENCY: WESTERN MAPPING CENTER (WMC)
PRODUCER: UNDEFINED
PRODUCTION_SYSTEM: GIS/MAGIC
COMPRESSION: UNDEFINED
STANDARD_VERSION: 1996 12
METADATA_DATE: 2000 06 15
DATA_FILE_SIZE: 41780882
BYTE_COUNT: 5473
