FILENAME: O4710918.SES.1081075.tif
QUADRANGLE_NAME: STARVE OUT FLAT
QUADRANT: SE
WEST_LONGITUDE: -109 48 45.00000
EAST_LONGITUDE: -109 45 0.00000
NORTH_LATITUDE: 47 41 15.00000
SOUTH_LATITUDE: 47 37 30.00000
PRODUCTION_DATE: 2000 6 1
RASTER_ORDER: LEFT_RIGHT/TOP_BOTTOM
BAND_ORGANIZATION: SINGLE FILE
BAND_CONTENT: BLACK&WHITE
BAND_CONTENT: UNDEFINED
BAND_CONTENT: UNDEFINED
BITS_PER_PIXEL: 8
SAMPLES_AND_LINES: 5461 7626
HORIZONTAL_DATUM: NAD83
HORIZONTAL_COORDINATE_SYSTEM: UTM
COORDINATE_ZONE: 12
HORIZONTAL_UNITS: METERS
HORIZONTAL_RESOLUTION: 1.00000
SECONDARY_HORIZONTAL_DATUM: NAD27
XY_ORIGIN: 588758.00000 5282625.00000
SECONDARY_XY_ORIGIN: 588816.86800 5282409.25100
NATION: US
NATION: "SCIENCE
STATE: MT
NW_QUAD_CORNER_XY: 589115.20800 5282251.05100
NE_QUAD_CORNER_XY: 593805.41500 5282324.83800
SE_QUAD_CORNERY_XY: 593917.43800 5275378.79100
SW_QUAD_CORNER_XY: 589221.62900 5275304.99000
SECONDARY_NW_QUAD_XY: 589117.99400 5282032.27600
SECONDARY_NE_QUAD_XY: 593808.34800 5282106.06600
SECONDARY_SE_QUAD_XY: 593920.37100 5275160.03900
SECONDARY_SW_QUAD_XY: 589224.41500 5275086.23500
RMSE_XY: 2.40000
IMAGE_SOURCE: BLACK AND WHITE FILM
SOURCE_IMAGE_ID: NAPP 9128 143
SOURCE_IMAGE_DATE: 1996 07 29
SOURCE_IMAGE_ID: NAPP 9128 144
SOURCE_IMAGE_DATE: 1996 07 29
SOURCE_IMAGE_ID: NAPP 9128 142
SOURCE_IMAGE_DATE: 1996 07 29
SOURCE_DEM_DATE: 1987 00 00
AGENCY: WESTERN MAPPING CENTER (WMC)
PRODUCER: UNDEFINED
PRODUCTION_SYSTEM: GIS/MAGIC
COMPRESSION: UNDEFINED
STANDARD_VERSION: 1996 12
METADATA_DATE: 2000 06 15
DATA_FILE_SIZE: 41651047
BYTE_COUNT: 5461
