FILENAME: O4710917.NES.1081061.tif
QUADRANGLE_NAME: LAST CHANCE BENCH
QUADRANT: NE
WEST_LONGITUDE: -109 56 15.00000
EAST_LONGITUDE: -109 52 30.00000
NORTH_LATITUDE: 47 45 0.00000
SOUTH_LATITUDE: 47 41 15.00000
PRODUCTION_DATE: 2000 6 1
RASTER_ORDER: LEFT_RIGHT/TOP_BOTTOM
BAND_ORGANIZATION: SINGLE FILE
BAND_CONTENT: BLACK&WHITE
BAND_CONTENT: UNDEFINED
BAND_CONTENT: UNDEFINED
BITS_PER_PIXEL: 8
SAMPLES_AND_LINES: 5444 7619
HORIZONTAL_DATUM: NAD83
HORIZONTAL_COORDINATE_SYSTEM: UTM
COORDINATE_ZONE: 12
HORIZONTAL_UNITS: METERS
HORIZONTAL_RESOLUTION: 1.00000
SECONDARY_HORIZONTAL_DATUM: NAD27
XY_ORIGIN: 579282.00000 5289428.00000
SECONDARY_XY_ORIGIN: 579340.71300 5289212.20400
NATION: US
NATION: "SCIENCE
STATE: MT
NW_QUAD_CORNER_XY: 579639.45400 5289060.99300
NE_QUAD_CORNER_XY: 584324.07200 5289127.19700
SE_QUAD_CORNERY_XY: 584424.99100 5282181.04900
SW_QUAD_CORNER_XY: 579734.76500 5282114.83200
SECONDARY_NW_QUAD_XY: 579641.94700 5288842.19600
SECONDARY_NE_QUAD_XY: 584326.71200 5288908.40200
SECONDARY_SE_QUAD_XY: 584427.63100 5281962.27200
SECONDARY_SW_QUAD_XY: 579737.25800 5281896.05300
RMSE_XY: 2.30000
IMAGE_SOURCE: BLACK AND WHITE FILM
SOURCE_IMAGE_ID: NAPP 9128 265
SOURCE_IMAGE_DATE: 1996 07 29
SOURCE_IMAGE_ID: NAPP 9128 266
SOURCE_IMAGE_DATE: 1996 07 29
SOURCE_IMAGE_ID: NAPP 9128 264
SOURCE_IMAGE_DATE: 1996 07 29
SOURCE_IMAGE_ID: NAPP 9128 181
SOURCE_IMAGE_DATE: 1996 07 29
SOURCE_DEM_DATE: 1987 00 00
AGENCY: WESTERN MAPPING CENTER (WMC)
PRODUCER: UNDEFINED
PRODUCTION_SYSTEM: GIS/MAGIC
COMPRESSION: UNDEFINED
STANDARD_VERSION: 1996 12
METADATA_DATE: 2000 06 15
DATA_FILE_SIZE: 41483280
BYTE_COUNT: 5444
