FILENAME: O4710917.SWS.1081064.tif
QUADRANGLE_NAME: LAST CHANCE BENCH
QUADRANT: SW
WEST_LONGITUDE: -110 0 0.00000
EAST_LONGITUDE: -109 56 15.00000
NORTH_LATITUDE: 47 41 15.00000
SOUTH_LATITUDE: 47 37 30.00000
PRODUCTION_DATE: 2000 6 1
RASTER_ORDER: LEFT_RIGHT/TOP_BOTTOM
BAND_ORGANIZATION: SINGLE FILE
BAND_CONTENT: BLACK&WHITE
BAND_CONTENT: UNDEFINED
BAND_CONTENT: UNDEFINED
BITS_PER_PIXEL: 8
SAMPLES_AND_LINES: 5444 7614
HORIZONTAL_DATUM: NAD83
HORIZONTAL_COORDINATE_SYSTEM: UTM
COORDINATE_ZONE: 12
HORIZONTAL_UNITS: METERS
HORIZONTAL_RESOLUTION: 1.00000
SECONDARY_HORIZONTAL_DATUM: NAD27
XY_ORIGIN: 574687.00000 5282415.00000
SECONDARY_XY_ORIGIN: 574745.73600 5282199.31400
NATION: US
NATION: "SCIENCE
STATE: MT
NW_QUAD_CORNER_XY: 575044.53000 5282052.39900
NE_QUAD_CORNER_XY: 579734.76500 5282114.83200
SE_QUAD_CORNERY_XY: 579829.98100 5275168.74300
SW_QUAD_CORNER_XY: 575134.14400 5275106.29800
SECONDARY_NW_QUAD_XY: 575046.87700 5281833.61800
SECONDARY_NE_QUAD_XY: 579737.25800 5281896.05300
SECONDARY_SE_QUAD_XY: 579832.47400 5274949.98400
SECONDARY_SW_QUAD_XY: 575136.49000 5274887.53700
RMSE_XY: 1.30000
IMAGE_SOURCE: BLACK AND WHITE FILM
SOURCE_IMAGE_ID: NAPP 9160 019
SOURCE_IMAGE_DATE: 1997 09 23
SOURCE_IMAGE_ID: NAPP 9178 193
SOURCE_IMAGE_DATE: 1997 09 04
SOURCE_IMAGE_ID: NAPP 9160 017
SOURCE_IMAGE_DATE: 1997 09 23
SOURCE_IMAGE_ID: NAPP 9160 018
SOURCE_IMAGE_DATE: 1997 09 23
SOURCE_DEM_DATE: 1987 00 00
AGENCY: WESTERN MAPPING CENTER (WMC)
PRODUCER: UNDEFINED
PRODUCTION_SYSTEM: GIS/MAGIC
COMPRESSION: UNDEFINED
STANDARD_VERSION: 1996 12
METADATA_DATE: 2000 06 15
DATA_FILE_SIZE: 41456060
BYTE_COUNT: 5444
