FILENAME: O4710916.NWS.1083346.tif
QUADRANGLE_NAME: STURGEON ISLAND
QUADRANT: NW
WEST_LONGITUDE: -109 7 30.00000
EAST_LONGITUDE: -109 3 45.00000
NORTH_LATITUDE: 47 52 30.00000
SOUTH_LATITUDE: 47 48 45.00000
PRODUCTION_DATE: 2000 6 13
RASTER_ORDER: LEFT_RIGHT/TOP_BOTTOM
BAND_ORGANIZATION: SINGLE FILE
BAND_CONTENT: BLACK&WHITE
BAND_CONTENT: UNDEFINED
BAND_CONTENT: UNDEFINED
BITS_PER_PIXEL: 8
SAMPLES_AND_LINES: 5505 7668
HORIZONTAL_DATUM: NAD83
HORIZONTAL_COORDINATE_SYSTEM: UTM
COORDINATE_ZONE: 12
HORIZONTAL_UNITS: METERS
HORIZONTAL_RESOLUTION: 1.00000
SECONDARY_HORIZONTAL_DATUM: NAD27
XY_ORIGIN: 639846.00000 5304525.00000
SECONDARY_XY_ORIGIN: 639904.72400 5304309.13600
NATION: US
NATION: "SCIENCE
STATE: MT
NW_QUAD_CORNER_XY: 640201.63000 5304108.88900
NE_QUAD_CORNER_XY: 644874.84400 5304224.24800
SE_QUAD_CORNERY_XY: 645049.03500 5297278.21200
SW_QUAD_CORNER_XY: 640370.19900 5297162.82800
SECONDARY_NW_QUAD_XY: 640206.03100 5303890.09300
SECONDARY_NE_QUAD_XY: 644879.39200 5304005.45600
SECONDARY_SE_QUAD_XY: 645053.58300 5297059.43700
SECONDARY_SW_QUAD_XY: 640374.60000 5296944.04900
RMSE_XY: 1.70000
IMAGE_SOURCE: BLACK AND WHITE FILM
SOURCE_IMAGE_ID: NAPP 9129 206
SOURCE_IMAGE_DATE: 1996 07 27
SOURCE_IMAGE_ID: NAPP 9130 038
SOURCE_IMAGE_DATE: 1996 07 27
SOURCE_IMAGE_ID: NAPP 9129 204
SOURCE_IMAGE_DATE: 1996 07 27
SOURCE_IMAGE_ID: NAPP 9129 205
SOURCE_IMAGE_DATE: 1996 07 27
SOURCE_DEM_DATE: 1987 00 00
AGENCY: WESTERN MAPPING CENTER (WMC)
PRODUCER: UNDEFINED
PRODUCTION_SYSTEM: GIS/MAGIC
COMPRESSION: UNDEFINED
STANDARD_VERSION: 1996 12
METADATA_DATE: 2000 06 15
DATA_FILE_SIZE: 42217845
BYTE_COUNT: 5505
