FILENAME: O4710916.SWS.1083351.tif
QUADRANGLE_NAME: STURGEON ISLAND
QUADRANT: SW
WEST_LONGITUDE: -109 7 30.00000
EAST_LONGITUDE: -109 3 45.00000
NORTH_LATITUDE: 47 48 45.00000
SOUTH_LATITUDE: 47 45 0.00000
PRODUCTION_DATE: 2000 6 13
RASTER_ORDER: LEFT_RIGHT/TOP_BOTTOM
BAND_ORGANIZATION: SINGLE FILE
BAND_CONTENT: BLACK&WHITE
BAND_CONTENT: UNDEFINED
BAND_CONTENT: UNDEFINED
BITS_PER_PIXEL: 8
SAMPLES_AND_LINES: 5511 7668
HORIZONTAL_DATUM: NAD83
HORIZONTAL_COORDINATE_SYSTEM: UTM
COORDINATE_ZONE: 12
HORIZONTAL_UNITS: METERS
HORIZONTAL_RESOLUTION: 1.00000
SECONDARY_HORIZONTAL_DATUM: NAD27
XY_ORIGIN: 640014.00000 5297579.00000
SECONDARY_XY_ORIGIN: 640072.76200 5297363.21600
NATION: US
NATION: "SCIENCE
STATE: MT
NW_QUAD_CORNER_XY: 640370.19900 5297162.82800
NE_QUAD_CORNER_XY: 645049.03500 5297278.21200
SE_QUAD_CORNERY_XY: 645223.05300 5290332.24300
SW_QUAD_CORNER_XY: 640538.60000 5290216.83500
SECONDARY_NW_QUAD_XY: 640374.60000 5296944.04900
SECONDARY_NE_QUAD_XY: 645053.58300 5297059.43700
SECONDARY_SE_QUAD_XY: 645227.60000 5290113.48600
SECONDARY_SW_QUAD_XY: 640543.00000 5289998.07400
RMSE_XY: 1.60000
IMAGE_SOURCE: BLACK AND WHITE FILM
SOURCE_IMAGE_ID: NAPP 9129 204
SOURCE_IMAGE_DATE: 1996 07 27
SOURCE_IMAGE_ID: NAPP 9130 039
SOURCE_IMAGE_DATE: 1996 07 27
SOURCE_IMAGE_ID: NAPP 9129 203
SOURCE_IMAGE_DATE: 1996 07 27
SOURCE_IMAGE_ID: NAPP 9129 205
SOURCE_IMAGE_DATE: 1996 07 27
SOURCE_IMAGE_ID: NAPP 9157 250
SOURCE_IMAGE_DATE: 1997 09 05
SOURCE_DEM_DATE: 1987 00 00
AGENCY: WESTERN MAPPING CENTER (WMC)
PRODUCER: UNDEFINED
PRODUCTION_SYSTEM: GIS/MAGIC
COMPRESSION: UNDEFINED
STANDARD_VERSION: 1996 12
METADATA_DATE: 2000 06 15
DATA_FILE_SIZE: 42263859
BYTE_COUNT: 5511
