FILENAME: O4710915.SWS.1082423.tif
QUADRANGLE_NAME: BIRD RAPIDS
QUADRANT: SW
WEST_LONGITUDE: -109 15 0.00000
EAST_LONGITUDE: -109 11 15.00000
NORTH_LATITUDE: 47 48 45.00000
SOUTH_LATITUDE: 47 45 0.00000
PRODUCTION_DATE: 2000 6 12
RASTER_ORDER: LEFT_RIGHT/TOP_BOTTOM
BAND_ORGANIZATION: SINGLE FILE
BAND_CONTENT: BLACK&WHITE
BAND_CONTENT: UNDEFINED
BAND_CONTENT: UNDEFINED
BITS_PER_PIXEL: 8
SAMPLES_AND_LINES: 5500 7660
HORIZONTAL_DATUM: NAD83
HORIZONTAL_COORDINATE_SYSTEM: UTM
COORDINATE_ZONE: 12
HORIZONTAL_UNITS: METERS
HORIZONTAL_RESOLUTION: 1.00000
SECONDARY_HORIZONTAL_DATUM: NAD27
XY_ORIGIN: 630656.00000 5297352.00000
SECONDARY_XY_ORIGIN: 630714.77500 5297136.25600
NATION: US
NATION: "SCIENCE
STATE: MT
NW_QUAD_CORNER_XY: 631012.47800 5296943.41600
NE_QUAD_CORNER_XY: 635691.34600 5297051.22900
SE_QUAD_CORNERY_XY: 635854.13000 5290105.21300
SW_QUAD_CORNER_XY: 631169.64600 5289997.37700
SECONDARY_NW_QUAD_XY: 631016.58500 5296724.63000
SECONDARY_NE_QUAD_XY: 635695.60000 5296832.44700
SECONDARY_SE_QUAD_XY: 635858.38400 5289886.44800
SECONDARY_SW_QUAD_XY: 631173.75200 5289778.60900
RMSE_XY: 1.40000
IMAGE_SOURCE: BLACK AND WHITE FILM
SOURCE_IMAGE_ID: NAPP 9130 040
SOURCE_IMAGE_DATE: 1996 07 27
SOURCE_IMAGE_ID: NAPP 9156 035
SOURCE_IMAGE_DATE: 1997 08 29
SOURCE_IMAGE_ID: NAPP 9156 034
SOURCE_IMAGE_DATE: 1997 08 29
SOURCE_IMAGE_ID: NAPP 9156 033
SOURCE_IMAGE_DATE: 1997 08 29
SOURCE_IMAGE_ID: NAPP 9145 023
SOURCE_IMAGE_DATE: 1996 08 25
SOURCE_DEM_DATE: 1987 00 00
AGENCY: WESTERN MAPPING CENTER (WMC)
PRODUCER: UNDEFINED
PRODUCTION_SYSTEM: GIS/MAGIC
COMPRESSION: UNDEFINED
STANDARD_VERSION: 1996 12
METADATA_DATE: 2000 06 15
DATA_FILE_SIZE: 42135500
BYTE_COUNT: 5500
