FILENAME: O4710914.NWS.1081179.tif
QUADRANGLE_NAME: LEROY
QUADRANT: NW
WEST_LONGITUDE: -109 22 30.00000
EAST_LONGITUDE: -109 18 45.00000
NORTH_LATITUDE: 47 52 30.00000
SOUTH_LATITUDE: 47 48 45.00000
PRODUCTION_DATE: 2000 6 8
RASTER_ORDER: LEFT_RIGHT/TOP_BOTTOM
BAND_ORGANIZATION: SINGLE FILE
BAND_CONTENT: BLACK&WHITE
BAND_CONTENT: UNDEFINED
BAND_CONTENT: UNDEFINED
BITS_PER_PIXEL: 8
SAMPLES_AND_LINES: 5483 7652
HORIZONTAL_DATUM: NAD83
HORIZONTAL_COORDINATE_SYSTEM: UTM
COORDINATE_ZONE: 12
HORIZONTAL_UNITS: METERS
HORIZONTAL_RESOLUTION: 1.00000
SECONDARY_HORIZONTAL_DATUM: NAD27
XY_ORIGIN: 621152.00000 5304086.00000
SECONDARY_XY_ORIGIN: 621210.80800 5303870.14000
NATION: US
NATION: "SCIENCE
STATE: MT
NW_QUAD_CORNER_XY: 621508.61500 5303685.29500
NE_QUAD_CORNER_XY: 626181.89100 5303785.51800
SE_QUAD_CORNERY_XY: 626333.59400 5296839.38700
SW_QUAD_CORNER_XY: 621654.69600 5296739.14300
SECONDARY_NW_QUAD_XY: 621512.42900 5303466.48600
SECONDARY_NE_QUAD_XY: 626185.85200 5303566.71200
SECONDARY_SE_QUAD_XY: 626337.55500 5296620.59800
SECONDARY_SW_QUAD_XY: 621658.51000 5296520.35100
RMSE_XY: 2.00000
IMAGE_SOURCE: BLACK AND WHITE FILM
SOURCE_IMAGE_ID: NAPP 9156 071
SOURCE_IMAGE_DATE: 1997 08 29
SOURCE_IMAGE_ID: NAPP 9163 018
SOURCE_IMAGE_DATE: 1998 07 23
SOURCE_IMAGE_ID: NAPP 9156 070
SOURCE_IMAGE_DATE: 1997 08 29
SOURCE_IMAGE_ID: NAPP 9156 072
SOURCE_IMAGE_DATE: 1997 08 29
SOURCE_IMAGE_ID: NAPP 9156 033
SOURCE_IMAGE_DATE: 1997 08 29
SOURCE_DEM_DATE: 1954 00 00
AGENCY: WESTERN MAPPING CENTER (WMC)
PRODUCER: UNDEFINED
PRODUCTION_SYSTEM: GIS/MAGIC
COMPRESSION: UNDEFINED
STANDARD_VERSION: 1996 12
METADATA_DATE: 2000 06 15
DATA_FILE_SIZE: 41961399
BYTE_COUNT: 5483
