FILENAME: O4710914.SES.1081180.tif
QUADRANGLE_NAME: LEROY
QUADRANT: SE
WEST_LONGITUDE: -109 18 45.00000
EAST_LONGITUDE: -109 15 0.00000
NORTH_LATITUDE: 47 48 45.00000
SOUTH_LATITUDE: 47 45 0.00000
PRODUCTION_DATE: 2000 6 15
RASTER_ORDER: LEFT_RIGHT/TOP_BOTTOM
BAND_ORGANIZATION: SINGLE FILE
BAND_CONTENT: BLACK&WHITE
BAND_CONTENT: UNDEFINED
BAND_CONTENT: UNDEFINED
BITS_PER_PIXEL: 8
SAMPLES_AND_LINES: 5494 7656
HORIZONTAL_DATUM: NAD83
HORIZONTAL_COORDINATE_SYSTEM: UTM
COORDINATE_ZONE: 12
HORIZONTAL_UNITS: METERS
HORIZONTAL_RESOLUTION: 1.00000
SECONDARY_HORIZONTAL_DATUM: NAD27
XY_ORIGIN: 625977.00000 5297244.00000
SECONDARY_XY_ORIGIN: 626035.80500 5297028.22800
NATION: US
NATION: "SCIENCE
STATE: MT
NW_QUAD_CORNER_XY: 626333.59400 5296839.38700
NE_QUAD_CORNER_XY: 631012.47800 5296943.41600
SE_QUAD_CORNERY_XY: 631169.64600 5289997.37700
SW_QUAD_CORNER_XY: 626485.14600 5289893.32600
SECONDARY_NW_QUAD_XY: 626337.55500 5296620.59800
SECONDARY_NE_QUAD_XY: 631016.58500 5296724.63000
SECONDARY_SE_QUAD_XY: 631173.75200 5289778.60900
SECONDARY_SW_QUAD_XY: 626489.10600 5289674.55500
RMSE_XY: 4.10000
IMAGE_SOURCE: BLACK AND WHITE FILM
SOURCE_IMAGE_ID: NAPP 9145 024
SOURCE_IMAGE_DATE: 1996 08 25
SOURCE_IMAGE_ID: NAPP 9156 068
SOURCE_IMAGE_DATE: 1997 08 29
SOURCE_IMAGE_ID: NAPP 9156 069
SOURCE_IMAGE_DATE: 1997 08 29
SOURCE_IMAGE_ID: NAPP 9156 070
SOURCE_IMAGE_DATE: 1997 08 29
SOURCE_IMAGE_ID: NAPP 9156 035
SOURCE_IMAGE_DATE: 1997 08 29
SOURCE_DEM_DATE: 1954 00 00
AGENCY: WESTERN MAPPING CENTER (WMC)
PRODUCER: UNDEFINED
PRODUCTION_SYSTEM: GIS/MAGIC
COMPRESSION: UNDEFINED
STANDARD_VERSION: 1996 12
METADATA_DATE: 2000 06 15
DATA_FILE_SIZE: 42067558
BYTE_COUNT: 5494
